BEGIN:VCALENDAR
VERSION:2.0
PRODID:-//KEYT Events - ECPv6.15.20//NONSGML v1.0//EN
CALSCALE:GREGORIAN
METHOD:PUBLISH
X-ORIGINAL-URL:https://events.keyt.com
X-WR-CALDESC:Events for KEYT Events
REFRESH-INTERVAL;VALUE=DURATION:PT1H
X-Robots-Tag:noindex
X-PUBLISHED-TTL:PT1H
BEGIN:VTIMEZONE
TZID:America/Los_Angeles
BEGIN:DAYLIGHT
TZOFFSETFROM:-0800
TZOFFSETTO:-0700
TZNAME:PDT
DTSTART:20250309T100000
END:DAYLIGHT
BEGIN:STANDARD
TZOFFSETFROM:-0700
TZOFFSETTO:-0800
TZNAME:PST
DTSTART:20251102T090000
END:STANDARD
BEGIN:DAYLIGHT
TZOFFSETFROM:-0800
TZOFFSETTO:-0700
TZNAME:PDT
DTSTART:20260308T100000
END:DAYLIGHT
BEGIN:STANDARD
TZOFFSETFROM:-0700
TZOFFSETTO:-0800
TZNAME:PST
DTSTART:20261101T090000
END:STANDARD
BEGIN:DAYLIGHT
TZOFFSETFROM:-0800
TZOFFSETTO:-0700
TZNAME:PDT
DTSTART:20270314T100000
END:DAYLIGHT
BEGIN:STANDARD
TZOFFSETFROM:-0700
TZOFFSETTO:-0800
TZNAME:PST
DTSTART:20271107T090000
END:STANDARD
END:VTIMEZONE
BEGIN:VEVENT
DTSTART;TZID=America/Los_Angeles:20260507T120000
DTEND;TZID=America/Los_Angeles:20260507T133000
DTSTAMP:20260421T120753
CREATED:20260414T235601Z
LAST-MODIFIED:20260414T235601Z
UID:16529-1778155200-1778160600@events.keyt.com
SUMMARY:FREE YouthWell Parent Support Groups- Family Tools+
DESCRIPTION:For parents/caregivers of youth\, ages 5-18\, with ADHD\, dyslexia\, autism\, Tourette’s\, and uniquely-wired brains. \nAddress the day to day challenges of parenting\, ideas for strengthening family connections\, and how to prioritize your own self-care and wellness while learning tips from other parents. *Focus on specific needs of parents raising neurodiverse youth: emotional regulation\, time management\, building relationships with teachers/schools. This is a HYBRID drop-in support group that meets weekly. \nMay Topic: The ADHD+ End-of-School Wrap-UP and Summer Prep \n  \nWHEN: Thursdays at 12pm [MAY 7\, 14\, 21\, 28] \nWHERE: Hybrid– Zoom OR in-person at SBCC Wake Center\, 300 N Turnpike \n**REGISTRATION REQUIRED: youthwell.org/groups/
URL:https://events.keyt.com/event/free-youthwell-parent-support-groups-family-tools-6/2026-05-07/
LOCATION:Virtual
CATEGORIES:Community,Education
ATTACH;FMTTYPE=image/png:https://events.keyt.com/wp-content/uploads/2026/04/FY26-MAY-ENGdraft-1.png
ORGANIZER;CN="YouthWell":MAILTO:groups@youthwell.org
END:VEVENT
BEGIN:VEVENT
DTSTART;TZID=America/Los_Angeles:20260514T120000
DTEND;TZID=America/Los_Angeles:20260514T133000
DTSTAMP:20260421T120753
CREATED:20260414T235601Z
LAST-MODIFIED:20260414T235601Z
UID:16531-1778760000-1778765400@events.keyt.com
SUMMARY:FREE YouthWell Parent Support Groups- Family Tools+
DESCRIPTION:For parents/caregivers of youth\, ages 5-18\, with ADHD\, dyslexia\, autism\, Tourette’s\, and uniquely-wired brains. \nAddress the day to day challenges of parenting\, ideas for strengthening family connections\, and how to prioritize your own self-care and wellness while learning tips from other parents. *Focus on specific needs of parents raising neurodiverse youth: emotional regulation\, time management\, building relationships with teachers/schools. This is a HYBRID drop-in support group that meets weekly. \nMay Topic: The ADHD+ End-of-School Wrap-UP and Summer Prep \n  \nWHEN: Thursdays at 12pm [MAY 7\, 14\, 21\, 28] \nWHERE: Hybrid– Zoom OR in-person at SBCC Wake Center\, 300 N Turnpike \n**REGISTRATION REQUIRED: youthwell.org/groups/
URL:https://events.keyt.com/event/free-youthwell-parent-support-groups-family-tools-6/2026-05-14/
LOCATION:Virtual
CATEGORIES:Community,Education
ATTACH;FMTTYPE=image/png:https://events.keyt.com/wp-content/uploads/2026/04/FY26-MAY-ENGdraft-1.png
ORGANIZER;CN="YouthWell":MAILTO:groups@youthwell.org
END:VEVENT
BEGIN:VEVENT
DTSTART;TZID=America/Los_Angeles:20260521T120000
DTEND;TZID=America/Los_Angeles:20260521T133000
DTSTAMP:20260421T120753
CREATED:20260414T235601Z
LAST-MODIFIED:20260414T235601Z
UID:16532-1779364800-1779370200@events.keyt.com
SUMMARY:FREE YouthWell Parent Support Groups- Family Tools+
DESCRIPTION:For parents/caregivers of youth\, ages 5-18\, with ADHD\, dyslexia\, autism\, Tourette’s\, and uniquely-wired brains. \nAddress the day to day challenges of parenting\, ideas for strengthening family connections\, and how to prioritize your own self-care and wellness while learning tips from other parents. *Focus on specific needs of parents raising neurodiverse youth: emotional regulation\, time management\, building relationships with teachers/schools. This is a HYBRID drop-in support group that meets weekly. \nMay Topic: The ADHD+ End-of-School Wrap-UP and Summer Prep \n  \nWHEN: Thursdays at 12pm [MAY 7\, 14\, 21\, 28] \nWHERE: Hybrid– Zoom OR in-person at SBCC Wake Center\, 300 N Turnpike \n**REGISTRATION REQUIRED: youthwell.org/groups/
URL:https://events.keyt.com/event/free-youthwell-parent-support-groups-family-tools-6/2026-05-21/
LOCATION:Virtual
CATEGORIES:Community,Education
ATTACH;FMTTYPE=image/png:https://events.keyt.com/wp-content/uploads/2026/04/FY26-MAY-ENGdraft-1.png
ORGANIZER;CN="YouthWell":MAILTO:groups@youthwell.org
END:VEVENT
BEGIN:VEVENT
DTSTART;TZID=America/Los_Angeles:20260528T120000
DTEND;TZID=America/Los_Angeles:20260528T133000
DTSTAMP:20260421T120753
CREATED:20260414T235601Z
LAST-MODIFIED:20260414T235601Z
UID:16533-1779969600-1779975000@events.keyt.com
SUMMARY:FREE YouthWell Parent Support Groups- Family Tools+
DESCRIPTION:For parents/caregivers of youth\, ages 5-18\, with ADHD\, dyslexia\, autism\, Tourette’s\, and uniquely-wired brains. \nAddress the day to day challenges of parenting\, ideas for strengthening family connections\, and how to prioritize your own self-care and wellness while learning tips from other parents. *Focus on specific needs of parents raising neurodiverse youth: emotional regulation\, time management\, building relationships with teachers/schools. This is a HYBRID drop-in support group that meets weekly. \nMay Topic: The ADHD+ End-of-School Wrap-UP and Summer Prep \n  \nWHEN: Thursdays at 12pm [MAY 7\, 14\, 21\, 28] \nWHERE: Hybrid– Zoom OR in-person at SBCC Wake Center\, 300 N Turnpike \n**REGISTRATION REQUIRED: youthwell.org/groups/
URL:https://events.keyt.com/event/free-youthwell-parent-support-groups-family-tools-6/2026-05-28/
LOCATION:Virtual
CATEGORIES:Community,Education
ATTACH;FMTTYPE=image/png:https://events.keyt.com/wp-content/uploads/2026/04/FY26-MAY-ENGdraft-1.png
ORGANIZER;CN="YouthWell":MAILTO:groups@youthwell.org
END:VEVENT
END:VCALENDAR