BEGIN:VCALENDAR
VERSION:2.0
PRODID:-//KEYT Events - ECPv6.15.20//NONSGML v1.0//EN
CALSCALE:GREGORIAN
METHOD:PUBLISH
X-WR-CALNAME:KEYT Events
X-ORIGINAL-URL:https://events.keyt.com
X-WR-CALDESC:Events for KEYT Events
REFRESH-INTERVAL;VALUE=DURATION:PT1H
X-Robots-Tag:noindex
X-PUBLISHED-TTL:PT1H
BEGIN:VTIMEZONE
TZID:America/Los_Angeles
BEGIN:DAYLIGHT
TZOFFSETFROM:-0800
TZOFFSETTO:-0700
TZNAME:PDT
DTSTART:20250309T100000
END:DAYLIGHT
BEGIN:STANDARD
TZOFFSETFROM:-0700
TZOFFSETTO:-0800
TZNAME:PST
DTSTART:20251102T090000
END:STANDARD
BEGIN:DAYLIGHT
TZOFFSETFROM:-0800
TZOFFSETTO:-0700
TZNAME:PDT
DTSTART:20260308T100000
END:DAYLIGHT
BEGIN:STANDARD
TZOFFSETFROM:-0700
TZOFFSETTO:-0800
TZNAME:PST
DTSTART:20261101T090000
END:STANDARD
BEGIN:DAYLIGHT
TZOFFSETFROM:-0800
TZOFFSETTO:-0700
TZNAME:PDT
DTSTART:20270314T100000
END:DAYLIGHT
BEGIN:STANDARD
TZOFFSETFROM:-0700
TZOFFSETTO:-0800
TZNAME:PST
DTSTART:20271107T090000
END:STANDARD
END:VTIMEZONE
BEGIN:VEVENT
DTSTART;TZID=America/Los_Angeles:20260504T120000
DTEND;TZID=America/Los_Angeles:20260504T133000
DTSTAMP:20260421T152752
CREATED:20260414T235531Z
LAST-MODIFIED:20260414T235531Z
UID:16522-1777896000-1777901400@events.keyt.com
SUMMARY:FREE YouthWell Parent Support Groups- Parent Connect
DESCRIPTION:For parents/caregivers of youth\, ages 12-25\, struggling with a mental health challenge.  \nLearn skills to effectively and compassionately support your child struggling with any type of mental health challenge while also setting boundaries\, supporting siblings\, and managing your own self-care. This is a HYBRID drop-in support group that meets weekly. \nWHEN: Mondays at 12:00pm [MAY 4\, 11\, 18\, 25] \nWHERE: HYBRID — Zoom OR In-person/NEW LOCATION: 602 Anacapa St.\, Santa Barbara\, CA 93101 \n**REGISTRATION REQUIRED: youthwell.org/groups/
URL:https://events.keyt.com/event/free-youthwell-parent-support-groups-parent-connect-7/2026-05-04/
LOCATION:YouthWell\, 1528 Chapala Street suite 203\, Santa Barbara\, CA\, 93101\, United States
CATEGORIES:Community,Education
ATTACH;FMTTYPE=image/png:https://events.keyt.com/wp-content/uploads/2026/04/FY26-MAY-ENGdraft.png
ORGANIZER;CN="YouthWell":MAILTO:groups@youthwell.org
END:VEVENT
BEGIN:VEVENT
DTSTART;TZID=America/Los_Angeles:20260511T120000
DTEND;TZID=America/Los_Angeles:20260511T133000
DTSTAMP:20260421T152752
CREATED:20260414T235531Z
LAST-MODIFIED:20260414T235531Z
UID:16524-1778500800-1778506200@events.keyt.com
SUMMARY:FREE YouthWell Parent Support Groups- Parent Connect
DESCRIPTION:For parents/caregivers of youth\, ages 12-25\, struggling with a mental health challenge.  \nLearn skills to effectively and compassionately support your child struggling with any type of mental health challenge while also setting boundaries\, supporting siblings\, and managing your own self-care. This is a HYBRID drop-in support group that meets weekly. \nWHEN: Mondays at 12:00pm [MAY 4\, 11\, 18\, 25] \nWHERE: HYBRID — Zoom OR In-person/NEW LOCATION: 602 Anacapa St.\, Santa Barbara\, CA 93101 \n**REGISTRATION REQUIRED: youthwell.org/groups/
URL:https://events.keyt.com/event/free-youthwell-parent-support-groups-parent-connect-7/2026-05-11/
LOCATION:YouthWell\, 1528 Chapala Street suite 203\, Santa Barbara\, CA\, 93101\, United States
CATEGORIES:Community,Education
ATTACH;FMTTYPE=image/png:https://events.keyt.com/wp-content/uploads/2026/04/FY26-MAY-ENGdraft.png
ORGANIZER;CN="YouthWell":MAILTO:groups@youthwell.org
END:VEVENT
BEGIN:VEVENT
DTSTART;TZID=America/Los_Angeles:20260518T120000
DTEND;TZID=America/Los_Angeles:20260518T133000
DTSTAMP:20260421T152752
CREATED:20260414T235532Z
LAST-MODIFIED:20260414T235532Z
UID:16525-1779105600-1779111000@events.keyt.com
SUMMARY:FREE YouthWell Parent Support Groups- Parent Connect
DESCRIPTION:For parents/caregivers of youth\, ages 12-25\, struggling with a mental health challenge.  \nLearn skills to effectively and compassionately support your child struggling with any type of mental health challenge while also setting boundaries\, supporting siblings\, and managing your own self-care. This is a HYBRID drop-in support group that meets weekly. \nWHEN: Mondays at 12:00pm [MAY 4\, 11\, 18\, 25] \nWHERE: HYBRID — Zoom OR In-person/NEW LOCATION: 602 Anacapa St.\, Santa Barbara\, CA 93101 \n**REGISTRATION REQUIRED: youthwell.org/groups/
URL:https://events.keyt.com/event/free-youthwell-parent-support-groups-parent-connect-7/2026-05-18/
LOCATION:YouthWell\, 1528 Chapala Street suite 203\, Santa Barbara\, CA\, 93101\, United States
CATEGORIES:Community,Education
ATTACH;FMTTYPE=image/png:https://events.keyt.com/wp-content/uploads/2026/04/FY26-MAY-ENGdraft.png
ORGANIZER;CN="YouthWell":MAILTO:groups@youthwell.org
END:VEVENT
BEGIN:VEVENT
DTSTART;TZID=America/Los_Angeles:20260525T120000
DTEND;TZID=America/Los_Angeles:20260525T133000
DTSTAMP:20260421T152752
CREATED:20260414T235532Z
LAST-MODIFIED:20260414T235532Z
UID:16526-1779710400-1779715800@events.keyt.com
SUMMARY:FREE YouthWell Parent Support Groups- Parent Connect
DESCRIPTION:For parents/caregivers of youth\, ages 12-25\, struggling with a mental health challenge.  \nLearn skills to effectively and compassionately support your child struggling with any type of mental health challenge while also setting boundaries\, supporting siblings\, and managing your own self-care. This is a HYBRID drop-in support group that meets weekly. \nWHEN: Mondays at 12:00pm [MAY 4\, 11\, 18\, 25] \nWHERE: HYBRID — Zoom OR In-person/NEW LOCATION: 602 Anacapa St.\, Santa Barbara\, CA 93101 \n**REGISTRATION REQUIRED: youthwell.org/groups/
URL:https://events.keyt.com/event/free-youthwell-parent-support-groups-parent-connect-7/2026-05-25/
LOCATION:YouthWell\, 1528 Chapala Street suite 203\, Santa Barbara\, CA\, 93101\, United States
CATEGORIES:Community,Education
ATTACH;FMTTYPE=image/png:https://events.keyt.com/wp-content/uploads/2026/04/FY26-MAY-ENGdraft.png
ORGANIZER;CN="YouthWell":MAILTO:groups@youthwell.org
END:VEVENT
END:VCALENDAR