BEGIN:VCALENDAR
VERSION:2.0
PRODID:-//KEYT Events - ECPv6.15.20//NONSGML v1.0//EN
CALSCALE:GREGORIAN
METHOD:PUBLISH
X-WR-CALNAME:KEYT Events
X-ORIGINAL-URL:https://events.keyt.com
X-WR-CALDESC:Events for KEYT Events
REFRESH-INTERVAL;VALUE=DURATION:PT1H
X-Robots-Tag:noindex
X-PUBLISHED-TTL:PT1H
BEGIN:VTIMEZONE
TZID:America/Los_Angeles
BEGIN:DAYLIGHT
TZOFFSETFROM:-0800
TZOFFSETTO:-0700
TZNAME:PDT
DTSTART:20240310T100000
END:DAYLIGHT
BEGIN:STANDARD
TZOFFSETFROM:-0700
TZOFFSETTO:-0800
TZNAME:PST
DTSTART:20241103T090000
END:STANDARD
BEGIN:DAYLIGHT
TZOFFSETFROM:-0800
TZOFFSETTO:-0700
TZNAME:PDT
DTSTART:20250309T100000
END:DAYLIGHT
BEGIN:STANDARD
TZOFFSETFROM:-0700
TZOFFSETTO:-0800
TZNAME:PST
DTSTART:20251102T090000
END:STANDARD
BEGIN:DAYLIGHT
TZOFFSETFROM:-0800
TZOFFSETTO:-0700
TZNAME:PDT
DTSTART:20260308T100000
END:DAYLIGHT
BEGIN:STANDARD
TZOFFSETFROM:-0700
TZOFFSETTO:-0800
TZNAME:PST
DTSTART:20261101T090000
END:STANDARD
END:VTIMEZONE
BEGIN:VEVENT
DTSTART;TZID=America/Los_Angeles:20250929T170000
DTEND;TZID=America/Los_Angeles:20250929T183000
DTSTAMP:20260420T074656
CREATED:20250903T013110Z
LAST-MODIFIED:20250903T013110Z
UID:12632-1759165200-1759170600@events.keyt.com
SUMMARY:FREE YouthWell Parent Support Groups- TeenWell
DESCRIPTION:Join our support group for incoming 9th-12th graders\, where you’ll learn valuable skills to regulate emotions\, tolerate stress\, and improve relationships. This is a space to talk about and work through life problems and give and get support with peers and leaders who have your back.\nCOMMITMENT: Min 4-weeks [New members may join at any time] \nWHEN: MONDAYS • 5:00-6:15PM • weekly [SEPT 22\, 29] \nWHERE: attend in-person at OpenMinds\, 1919 State St. \n**REGISTRATION REQUIRED: openminds.clinic/group \n 
URL:https://events.keyt.com/event/free-youthwell-parent-support-groups-teenwell/2025-09-29/
LOCATION:Open Minds\, 1919 State Street STE 303\, Santa Barbara\, 93101
CATEGORIES:Community,Education,Health and Wellness
ATTACH;FMTTYPE=image/png:https://events.keyt.com/wp-content/uploads/2025/08/SEPTEMBER-group-calendar-English-•-Approved-1-3.png
ORGANIZER;CN="Open Minds":MAILTO:info@openminds.clinic
END:VEVENT
BEGIN:VEVENT
DTSTART;TZID=America/Los_Angeles:20250922T170000
DTEND;TZID=America/Los_Angeles:20250922T183000
DTSTAMP:20260420T074656
CREATED:20250903T013109Z
LAST-MODIFIED:20250903T013109Z
UID:12628-1758560400-1758565800@events.keyt.com
SUMMARY:FREE YouthWell Parent Support Groups- TeenWell
DESCRIPTION:Join our support group for incoming 9th-12th graders\, where you’ll learn valuable skills to regulate emotions\, tolerate stress\, and improve relationships. This is a space to talk about and work through life problems and give and get support with peers and leaders who have your back.\nCOMMITMENT: Min 4-weeks [New members may join at any time] \nWHEN: MONDAYS • 5:00-6:15PM • weekly [SEPT 22\, 29] \nWHERE: attend in-person at OpenMinds\, 1919 State St. \n**REGISTRATION REQUIRED: openminds.clinic/group \n 
URL:https://events.keyt.com/event/free-youthwell-parent-support-groups-teenwell/2025-09-22/
LOCATION:Open Minds\, 1919 State Street STE 303\, Santa Barbara\, 93101
CATEGORIES:Community,Education,Health and Wellness
ATTACH;FMTTYPE=image/png:https://events.keyt.com/wp-content/uploads/2025/08/SEPTEMBER-group-calendar-English-•-Approved-1-3.png
ORGANIZER;CN="Open Minds":MAILTO:info@openminds.clinic
END:VEVENT
END:VCALENDAR