BEGIN:VCALENDAR
VERSION:2.0
PRODID:-//KEYT Events - ECPv6.15.20//NONSGML v1.0//EN
CALSCALE:GREGORIAN
METHOD:PUBLISH
X-WR-CALNAME:KEYT Events
X-ORIGINAL-URL:https://events.keyt.com
X-WR-CALDESC:Events for KEYT Events
REFRESH-INTERVAL;VALUE=DURATION:PT1H
X-Robots-Tag:noindex
X-PUBLISHED-TTL:PT1H
BEGIN:VTIMEZONE
TZID:America/Los_Angeles
BEGIN:DAYLIGHT
TZOFFSETFROM:-0800
TZOFFSETTO:-0700
TZNAME:PDT
DTSTART:20250309T100000
END:DAYLIGHT
BEGIN:STANDARD
TZOFFSETFROM:-0700
TZOFFSETTO:-0800
TZNAME:PST
DTSTART:20251102T090000
END:STANDARD
BEGIN:DAYLIGHT
TZOFFSETFROM:-0800
TZOFFSETTO:-0700
TZNAME:PDT
DTSTART:20260308T100000
END:DAYLIGHT
BEGIN:STANDARD
TZOFFSETFROM:-0700
TZOFFSETTO:-0800
TZNAME:PST
DTSTART:20261101T090000
END:STANDARD
BEGIN:DAYLIGHT
TZOFFSETFROM:-0800
TZOFFSETTO:-0700
TZNAME:PDT
DTSTART:20270314T100000
END:DAYLIGHT
BEGIN:STANDARD
TZOFFSETFROM:-0700
TZOFFSETTO:-0800
TZNAME:PST
DTSTART:20271107T090000
END:STANDARD
END:VTIMEZONE
BEGIN:VEVENT
DTSTART;TZID=America/Los_Angeles:20260417T170000
DTEND;TZID=America/Los_Angeles:20260417T200000
DTSTAMP:20260421T081142
CREATED:20260218T020014Z
LAST-MODIFIED:20260218T020014Z
UID:15159-1776445200-1776456000@events.keyt.com
SUMMARY:GALLERY ROW - 3rd FRIDAY ART WALK - LA CUMBRE PLAZA\, Santa Barbara
DESCRIPTION:Art comes alive at La Cumbre Plaza Gallery Row. Explore dynamic galleries showcasing bold\, modern\, and unforgettable works by Santa Barbara–based and regional artists. Open Tue–Sun\, 12–5 PM.\n✨ Join us for the La Cumbre Gallery Row Art Walk – 3rd Friday\, 5–8 PM. Enjoy art\, music\, and inspiration. Participating Galleries: La Cumbre Center for Creative Arts LCCCA): Elevate\, Fine Line and Illuminations Gallery; Voice Gallery; Museum of Tibetan Art & Culture\, Grace Fisher’s Inclusive Arts Clubhouse.
URL:https://events.keyt.com/event/gallery-row-3rd-friday-art-walk-la-cumbre-plaza-santa-barbara/2026-04-17/
LOCATION:LA CUMBRE PLAZA GALLERY ROW\, 121 S. Hope Avenue\, Santa Barbara\, CA\, 93105\, United States
CATEGORIES:Art and Exhibits,Community,Music
ATTACH;FMTTYPE=image/jpeg:https://events.keyt.com/wp-content/uploads/2026/02/KYET-Calendar-1600-Wx900H.jpg
END:VEVENT
BEGIN:VEVENT
DTSTART;TZID=America/Los_Angeles:20260320T170000
DTEND;TZID=America/Los_Angeles:20260320T200000
DTSTAMP:20260421T081142
CREATED:20260218T020013Z
LAST-MODIFIED:20260218T020013Z
UID:15158-1774026000-1774036800@events.keyt.com
SUMMARY:GALLERY ROW - 3rd FRIDAY ART WALK - LA CUMBRE PLAZA\, Santa Barbara
DESCRIPTION:Art comes alive at La Cumbre Plaza Gallery Row. Explore dynamic galleries showcasing bold\, modern\, and unforgettable works by Santa Barbara–based and regional artists. Open Tue–Sun\, 12–5 PM.\n✨ Join us for the La Cumbre Gallery Row Art Walk – 3rd Friday\, 5–8 PM. Enjoy art\, music\, and inspiration. Participating Galleries: La Cumbre Center for Creative Arts LCCCA): Elevate\, Fine Line and Illuminations Gallery; Voice Gallery; Museum of Tibetan Art & Culture\, Grace Fisher’s Inclusive Arts Clubhouse.
URL:https://events.keyt.com/event/gallery-row-3rd-friday-art-walk-la-cumbre-plaza-santa-barbara/2026-03-20/
LOCATION:LA CUMBRE PLAZA GALLERY ROW\, 121 S. Hope Avenue\, Santa Barbara\, CA\, 93105\, United States
CATEGORIES:Art and Exhibits,Community,Music
ATTACH;FMTTYPE=image/jpeg:https://events.keyt.com/wp-content/uploads/2026/02/KYET-Calendar-1600-Wx900H.jpg
END:VEVENT
BEGIN:VEVENT
DTSTART;TZID=America/Los_Angeles:20260220T170000
DTEND;TZID=America/Los_Angeles:20260220T200000
DTSTAMP:20260421T081142
CREATED:20260218T020013Z
LAST-MODIFIED:20260218T020013Z
UID:15154-1771606800-1771617600@events.keyt.com
SUMMARY:GALLERY ROW - 3rd FRIDAY ART WALK - LA CUMBRE PLAZA\, Santa Barbara
DESCRIPTION:Art comes alive at La Cumbre Plaza Gallery Row. Explore dynamic galleries showcasing bold\, modern\, and unforgettable works by Santa Barbara–based and regional artists. Open Tue–Sun\, 12–5 PM.\n✨ Join us for the La Cumbre Gallery Row Art Walk – 3rd Friday\, 5–8 PM. Enjoy art\, music\, and inspiration. Participating Galleries: La Cumbre Center for Creative Arts LCCCA): Elevate\, Fine Line and Illuminations Gallery; Voice Gallery; Museum of Tibetan Art & Culture\, Grace Fisher’s Inclusive Arts Clubhouse.
URL:https://events.keyt.com/event/gallery-row-3rd-friday-art-walk-la-cumbre-plaza-santa-barbara/2026-02-20/
LOCATION:LA CUMBRE PLAZA GALLERY ROW\, 121 S. Hope Avenue\, Santa Barbara\, CA\, 93105\, United States
CATEGORIES:Art and Exhibits,Community,Music
ATTACH;FMTTYPE=image/jpeg:https://events.keyt.com/wp-content/uploads/2026/02/KYET-Calendar-1600-Wx900H.jpg
END:VEVENT
END:VCALENDAR