BEGIN:VCALENDAR
VERSION:2.0
PRODID:-//KEYT Events - ECPv6.15.20//NONSGML v1.0//EN
CALSCALE:GREGORIAN
METHOD:PUBLISH
X-ORIGINAL-URL:https://events.keyt.com
X-WR-CALDESC:Events for KEYT Events
REFRESH-INTERVAL;VALUE=DURATION:PT1H
X-Robots-Tag:noindex
X-PUBLISHED-TTL:PT1H
BEGIN:VTIMEZONE
TZID:America/Los_Angeles
BEGIN:DAYLIGHT
TZOFFSETFROM:-0800
TZOFFSETTO:-0700
TZNAME:PDT
DTSTART:20220313T100000
END:DAYLIGHT
BEGIN:STANDARD
TZOFFSETFROM:-0700
TZOFFSETTO:-0800
TZNAME:PST
DTSTART:20221106T090000
END:STANDARD
BEGIN:DAYLIGHT
TZOFFSETFROM:-0800
TZOFFSETTO:-0700
TZNAME:PDT
DTSTART:20230312T100000
END:DAYLIGHT
BEGIN:STANDARD
TZOFFSETFROM:-0700
TZOFFSETTO:-0800
TZNAME:PST
DTSTART:20231105T090000
END:STANDARD
BEGIN:DAYLIGHT
TZOFFSETFROM:-0800
TZOFFSETTO:-0700
TZNAME:PDT
DTSTART:20240310T100000
END:DAYLIGHT
BEGIN:STANDARD
TZOFFSETFROM:-0700
TZOFFSETTO:-0800
TZNAME:PST
DTSTART:20241103T090000
END:STANDARD
END:VTIMEZONE
BEGIN:VEVENT
DTSTART;TZID=America/Los_Angeles:20231231T103000
DTEND;TZID=America/Los_Angeles:20231231T113000
DTSTAMP:20260423T035204
CREATED:20240830T173522Z
LAST-MODIFIED:20240830T173522Z
UID:4679-1704018600-1704022200@events.keyt.com
SUMMARY:Vibes & Vinyasa
DESCRIPTION:To vibe is to enjoy\, dance to or feel inspired by music.  So let’s vibe while flowing together with the connection of our attention on our bodies\, the bass and the beats that embody the space. \nThis is a dynamic class with electronic dance music (EDM) as the rhythm and yoga as the vehicle to create a state of being full of energy and life.    No matter your experience level or state of being prior to walking in the door\, we guarantee an energetic shift as we connect to the magic that is created by music and movement. 
URL:https://events.keyt.com/event/vibes-vinyasa/2023-12-31/
LOCATION:Power of Your Om Yoga Studio\, 1221 State St\, 201\, Santa Barbara\, CA\, 93101\, United States
CATEGORIES:Health and Wellness
ATTACH;FMTTYPE=image/png:https://events.keyt.com/wp-content/uploads/2023/12/New-2024-Classes-1.png
ORGANIZER;CN="Power of Your Om Yoga Studio":MAILTO:yoga@powerofyourom.com
END:VEVENT
END:VCALENDAR