BEGIN:VCALENDAR
VERSION:2.0
PRODID:-//KEYT Events - ECPv6.15.20//NONSGML v1.0//EN
CALSCALE:GREGORIAN
METHOD:PUBLISH
X-WR-CALNAME:KEYT Events
X-ORIGINAL-URL:https://events.keyt.com
X-WR-CALDESC:Events for KEYT Events
REFRESH-INTERVAL;VALUE=DURATION:PT1H
X-Robots-Tag:noindex
X-PUBLISHED-TTL:PT1H
BEGIN:VTIMEZONE
TZID:America/Los_Angeles
BEGIN:DAYLIGHT
TZOFFSETFROM:-0800
TZOFFSETTO:-0700
TZNAME:PDT
DTSTART:20230312T100000
END:DAYLIGHT
BEGIN:STANDARD
TZOFFSETFROM:-0700
TZOFFSETTO:-0800
TZNAME:PST
DTSTART:20231105T090000
END:STANDARD
BEGIN:DAYLIGHT
TZOFFSETFROM:-0800
TZOFFSETTO:-0700
TZNAME:PDT
DTSTART:20240310T100000
END:DAYLIGHT
BEGIN:STANDARD
TZOFFSETFROM:-0700
TZOFFSETTO:-0800
TZNAME:PST
DTSTART:20241103T090000
END:STANDARD
BEGIN:DAYLIGHT
TZOFFSETFROM:-0800
TZOFFSETTO:-0700
TZNAME:PDT
DTSTART:20250309T100000
END:DAYLIGHT
BEGIN:STANDARD
TZOFFSETFROM:-0700
TZOFFSETTO:-0800
TZNAME:PST
DTSTART:20251102T090000
END:STANDARD
END:VTIMEZONE
BEGIN:VEVENT
DTSTART;TZID=America/Los_Angeles:20240302T100000
DTEND;TZID=America/Los_Angeles:20240902T170000
DTSTAMP:20260423T053156
CREATED:20240830T174143Z
LAST-MODIFIED:20240830T174143Z
UID:4924-1709373600-1725296400@events.keyt.com
SUMMARY:The Birds and the Bees and More: Pollinators
DESCRIPTION:The California Nature Art Museum is excited to bring the important topic of pollinators to its gallery featuring original art by Ava Roth\, Elizabeth Weber\, Susan McDonnell\, and Cynthia James. The exhibition will be available to the public from March 2\, 2024\, through September 2\, 2024. \nEach artist brings a unique perspective to their pollinating subjects. For instance\, artist Ava Roth works with honeybees to produce artworks using bee-created honeycombs. Susan Mcdonnell is producing new paintings showcasing lesser-known pollinators such as bats and butterflies. Elizabeth Weber’s photos spotlight dwindling monarch butterfly populations\, aiming to encourage the planting of native species. And finally\, Cynthia James is creating art that reflects the risks faced by pollinators like bees due to pesticides.  \nWe are delighted to also be collaborating with the Cheadle Center For Biodiversity and Ecological Restoration at UC Santa Barbara. The Cheadle Center’s contribution is focused on native bees\, including high-resolution images of rare\, local bees from the UCSB Natural History Collection and images of bees visiting flowers of native plants for an up-close look at their beauty and biodiversity. Cheadle Center Director\, Katja Seltmann\, a bee biologist\, will present a performative discussion and Q&A about bee natural history that includes bees for viewing under the microscope and music. Additional programming will be announced soon.
URL:https://events.keyt.com/event/the-birds-and-the-bees-and-more-pollinators/
LOCATION:California Nature Art Museum\, 1511-B Mission Drive\, Solvang\, 93463\, United States
CATEGORIES:Art and Exhibits
ATTACH;FMTTYPE=image/png:https://events.keyt.com/wp-content/uploads/2024/02/pollinators-image-card.png
ORGANIZER;CN="California Nature Art Museum":MAILTO:info@wildlingmuseum.org
END:VEVENT
BEGIN:VEVENT
DTSTART;TZID=America/Los_Angeles:20240509T120000
DTEND;TZID=America/Los_Angeles:20240627T170000
DTSTAMP:20260423T053156
CREATED:20240830T174413Z
LAST-MODIFIED:20240830T174413Z
UID:5521-1715256000-1719507600@events.keyt.com
SUMMARY:“Here Comes the Sun: Celebrating 50 Years of Santa Barbara Summer Solstice”
DESCRIPTION:Every promotional poster heralding Santa Barbara’s unique Summer Solstice Celebration for the past 50 years and hundreds of photographs documenting its early years are among the many items in a new exhibit “Here Comes the Sun: Celebrating 50 Years of Santa Barbara Summer Solstice” on view at the Santa Barbara Historical Museum through June 27. \nIn just 50 years\, a small caravan of artists and mimes organized by Michael Gonzales has grown to a three-day extravaganza of street performance\, dance\, “people-powered” floats\, and live music. The Summer Solstice Parade now features more than 1\,000 participants and is watched by thousands more. \nThe Museum holds a complete collection of official Solstice posters\, which are a mix of works by well-known professional and talented amateur artists\, and were chosen by competition each year. Arranged chronologically\, some are signed by the artists. An interactive digital portal allows visitors to read about each poster and artist. \nIn the museum’s large Sala\, the focus is on the celebration’s expansion from its inception in 1974 with hundreds of historic images of the artists working in preparation\, the parade itself\, and associated celebrations. A 2018 video about Solstice by Justin Gunn\, current president of the Summer Solstice Celebration\, is also running on a loop. \nThe largest collection of images was contributed by photographer Nell Campbell who began photographing Summer Solstice in 1977. Campbell came to Santa Barbara in 1969 to attend the Brooks Institute of Photography\, and became a visual documentarian\, especially known for her images of civic protests. \nIn addition to the poster and photo displays\, the exhibit features a 9-foot-tall wearable “walking puppet” and several puppet heads and masks on loan from the Summer Solstice Celebration\, along with items from the Museum’s collection of colorful handmade banners and masks. Two paintings by the event’s founder Michael Gonzales are on loan from the Santa Barbara County Office of Arts & Culture. Each was showcased in the annual posters\, one in 1981 (the last year he directed the parade) and another in 1982. \nSegments from oral histories recorded by early Summer Solstice organizers and artists can be accessed by guests via QR codes. The interviews were recorded in 2023 as part of Solstice’s Legacy Project as a way to preserve the voices of Summer Solstice participants throughout the celebration’s 50-year history. \nThis year’s parade is Saturday\, June 22\, and the associated festival in Alameda Park is Friday through Sunday\, June 21-23. For more information\, visit www.solsticeparade.com.
URL:https://events.keyt.com/event/here-comes-the-sun-celebrating-50-years-of-santa-barbara-summer-solstice/2024-05-09/
LOCATION:Santa Barbara Historical Museum\, 136 East De La Guerra Street\, Santa Barbara\, CA\, 93101\, United States
CATEGORIES:Art and Exhibits,Community,Fairs and Festivals
ATTACH;FMTTYPE=image/jpeg:https://events.keyt.com/wp-content/uploads/2024/05/Nell-Campbell-Parade-Dancer-Summer-Solstice-1979-03-scaled.jpg
END:VEVENT
BEGIN:VEVENT
DTSTART;TZID=America/Los_Angeles:20240517T120000
DTEND;TZID=America/Los_Angeles:20240517T170000
DTSTAMP:20260423T053156
CREATED:20240830T174415Z
LAST-MODIFIED:20240830T174415Z
UID:5527-1715947200-1715965200@events.keyt.com
SUMMARY:“Here Comes the Sun: Celebrating 50 Years of Santa Barbara Summer Solstice”
DESCRIPTION:Every promotional poster heralding Santa Barbara’s unique Summer Solstice Celebration for the past 50 years and hundreds of photographs documenting its early years are among the many items in a new exhibit “Here Comes the Sun: Celebrating 50 Years of Santa Barbara Summer Solstice” on view at the Santa Barbara Historical Museum through June 27. \nIn just 50 years\, a small caravan of artists and mimes organized by Michael Gonzales has grown to a three-day extravaganza of street performance\, dance\, “people-powered” floats\, and live music. The Summer Solstice Parade now features more than 1\,000 participants and is watched by thousands more. \nThe Museum holds a complete collection of official Solstice posters\, which are a mix of works by well-known professional and talented amateur artists\, and were chosen by competition each year. Arranged chronologically\, some are signed by the artists. An interactive digital portal allows visitors to read about each poster and artist. \nIn the museum’s large Sala\, the focus is on the celebration’s expansion from its inception in 1974 with hundreds of historic images of the artists working in preparation\, the parade itself\, and associated celebrations. A 2018 video about Solstice by Justin Gunn\, current president of the Summer Solstice Celebration\, is also running on a loop. \nThe largest collection of images was contributed by photographer Nell Campbell who began photographing Summer Solstice in 1977. Campbell came to Santa Barbara in 1969 to attend the Brooks Institute of Photography\, and became a visual documentarian\, especially known for her images of civic protests. \nIn addition to the poster and photo displays\, the exhibit features a 9-foot-tall wearable “walking puppet” and several puppet heads and masks on loan from the Summer Solstice Celebration\, along with items from the Museum’s collection of colorful handmade banners and masks. Two paintings by the event’s founder Michael Gonzales are on loan from the Santa Barbara County Office of Arts & Culture. Each was showcased in the annual posters\, one in 1981 (the last year he directed the parade) and another in 1982. \nSegments from oral histories recorded by early Summer Solstice organizers and artists can be accessed by guests via QR codes. The interviews were recorded in 2023 as part of Solstice’s Legacy Project as a way to preserve the voices of Summer Solstice participants throughout the celebration’s 50-year history. \nThis year’s parade is Saturday\, June 22\, and the associated festival in Alameda Park is Friday through Sunday\, June 21-23. For more information\, visit www.solsticeparade.com.
URL:https://events.keyt.com/event/here-comes-the-sun-celebrating-50-years-of-santa-barbara-summer-solstice/2024-05-17/
LOCATION:Santa Barbara Historical Museum\, 136 East De La Guerra Street\, Santa Barbara\, CA\, 93101\, United States
ATTACH;FMTTYPE=image/jpeg:https://events.keyt.com/wp-content/uploads/2024/05/Nell-Campbell-Parade-Dancer-Summer-Solstice-1979-03-scaled.jpg
END:VEVENT
BEGIN:VEVENT
DTSTART;TZID=America/Los_Angeles:20240517T193000
DTEND;TZID=America/Los_Angeles:20240517T223000
DTSTAMP:20260423T053156
CREATED:20240228T105524Z
LAST-MODIFIED:20240515T121342Z
UID:5041-1715974200-1715985000@events.keyt.com
SUMMARY:Little Wings:: Kuumbwa Jazz Center Santa Cruz :: 5/17
DESCRIPTION:Little Wings performs with Shannon Lay at Kuumbwa Jazz Center in Santa Cruz.\n\n\n(((folkYEAH!))) presents \nLITTLE WINGS\nShannon Lay\nKuumbwa Jazz Center \nSanta Cruz \nFriday\, May 17\, 2024 \nDoors 6:45pm / Show 7:30pm \n$30 adv / $35 dos + Santa Cruz City Admission Tax \nSeated Show. \nAll Ages \nAll ticket sales final. No third party tickets accepted.
URL:https://events.keyt.com/event/little-wings-kuumbwa-jazz-center-santa-cruz-5-17/
LOCATION:Kuumbwa Jazz Center\, 320-2 Cedar Street\, Santa Cruz\, CA\, 95060\, United States
ATTACH;FMTTYPE=image/jpeg:https://events.keyt.com/wp-content/uploads/2024/02/194a1dd1ae1b1ceb1c6ee0147ea1a874-HFsT9B.tmp_.jpg
END:VEVENT
BEGIN:VEVENT
DTSTART;TZID=America/Los_Angeles:20240517T200000
DTEND;TZID=America/Los_Angeles:20240517T220000
DTSTAMP:20260423T053156
CREATED:20240830T175756Z
LAST-MODIFIED:20240830T175756Z
UID:5392-1715976000-1715983200@events.keyt.com
SUMMARY:Mr. Burns
DESCRIPTION:“It starts…the episode starts with Bart getting letters saying: ‘I’m going kill you Bart.’”  \nA group of strangers come together and reconstruct a storyline of an episode from “The Simpsons\,” entirely from memory. Over 75 years\, this simple act evolves into new traditions of storytelling and performance that attempt to preserve the things we remember. From myth\, to ritual\, to religion\, Mr. Burns explores the communal impulse to make sense during the most senseless of times and showcase our essential and primal human instincts to survive. 
URL:https://events.keyt.com/event/mr-burns-7/2024-05-17/
LOCATION:Spanos Theatre\, 1 Grand Ave.\, San Luis Obispo\, 93407
ATTACH;FMTTYPE=image/jpeg:https://events.keyt.com/wp-content/uploads/2024/04/MRBURNS-hero-2.jpg
ORGANIZER;CN="Cal Poly Theatre &amp%3B Dance Department":MAILTO:thtrdanc@calpoly.edu
END:VEVENT
BEGIN:VEVENT
DTSTART;TZID=America/Los_Angeles:20240517T210000
DTEND;TZID=America/Los_Angeles:20240517T233000
DTSTAMP:20260423T053156
CREATED:20240313T111331Z
LAST-MODIFIED:20240515T121342Z
UID:5117-1715979600-1715988600@events.keyt.com
SUMMARY:Rayland Baxter:: SOhO:: Santa Barbara 5/17
DESCRIPTION:Rayland Baxter performs an inspiring set in Santa Barbara’s favorite venue — SOhO Restaurant & Music Club. With support from John-Robert\n\n\n(((folkYEAH!))) presents \nRAYLAND BAXTER\nJohn-Robert\nSOhO Restaurant & Music Club \nSanta Barbara\, CA \nFriday\, May 17\, 2024 \nDoors 8pm / Show 9pm \n21+ \nFor dinner reservations at SOhO Restaurant call 805-762-7776 ext 6 \nA ll Sales Final.
URL:https://events.keyt.com/event/rayland-baxter-soho-santa-barbara-5-17/
LOCATION:SOhO Restaurant & Music Club\, 1221 State Street\, #205\, Santa Barbara\, CA\, 93101\, United States
ATTACH;FMTTYPE=image/jpeg:https://events.keyt.com/wp-content/uploads/2024/03/17108867f52d6edc5388a69f7dc15282-JcFxUF.tmp_.jpg
END:VEVENT
END:VCALENDAR