BEGIN:VCALENDAR
VERSION:2.0
PRODID:-//KEYT Events - ECPv6.15.20//NONSGML v1.0//EN
CALSCALE:GREGORIAN
METHOD:PUBLISH
X-ORIGINAL-URL:https://events.keyt.com
X-WR-CALDESC:Events for KEYT Events
REFRESH-INTERVAL;VALUE=DURATION:PT1H
X-Robots-Tag:noindex
X-PUBLISHED-TTL:PT1H
BEGIN:VTIMEZONE
TZID:America/Los_Angeles
BEGIN:DAYLIGHT
TZOFFSETFROM:-0800
TZOFFSETTO:-0700
TZNAME:PDT
DTSTART:20250309T100000
END:DAYLIGHT
BEGIN:STANDARD
TZOFFSETFROM:-0700
TZOFFSETTO:-0800
TZNAME:PST
DTSTART:20251102T090000
END:STANDARD
BEGIN:DAYLIGHT
TZOFFSETFROM:-0800
TZOFFSETTO:-0700
TZNAME:PDT
DTSTART:20260308T100000
END:DAYLIGHT
BEGIN:STANDARD
TZOFFSETFROM:-0700
TZOFFSETTO:-0800
TZNAME:PST
DTSTART:20261101T090000
END:STANDARD
BEGIN:DAYLIGHT
TZOFFSETFROM:-0800
TZOFFSETTO:-0700
TZNAME:PDT
DTSTART:20270314T100000
END:DAYLIGHT
BEGIN:STANDARD
TZOFFSETFROM:-0700
TZOFFSETTO:-0800
TZNAME:PST
DTSTART:20271107T090000
END:STANDARD
BEGIN:DAYLIGHT
TZOFFSETFROM:-0800
TZOFFSETTO:-0700
TZNAME:PDT
DTSTART:20280312T100000
END:DAYLIGHT
BEGIN:STANDARD
TZOFFSETFROM:-0700
TZOFFSETTO:-0800
TZNAME:PST
DTSTART:20281105T090000
END:STANDARD
BEGIN:DAYLIGHT
TZOFFSETFROM:-0800
TZOFFSETTO:-0700
TZNAME:PDT
DTSTART:20290311T100000
END:DAYLIGHT
BEGIN:STANDARD
TZOFFSETFROM:-0700
TZOFFSETTO:-0800
TZNAME:PST
DTSTART:20291104T090000
END:STANDARD
END:VTIMEZONE
BEGIN:VEVENT
DTSTART;TZID=America/Los_Angeles:20260610T090000
DTEND;TZID=America/Los_Angeles:20260610T123000
DTSTAMP:20260421T003648
CREATED:20260414T200523Z
LAST-MODIFIED:20260414T200523Z
UID:16495-1781082000-1781094600@events.keyt.com
SUMMARY:Slow Art Walkthrough & Picnic Lunch
DESCRIPTION:A slow art walkthrough is a quiet\, meditative experience designed to stretch and challenge the 8-second average viewing time for museum artwork. \nThis guided experience will invite viewers into the benefits of mindfulness\, curiosity-based observation\, and the intersection of art and nature. Throughout the 90min walkthrough\, viewers are encouraged to spend 5-15min with each artwork of their choosing. The Museum will be closed to the public throughout the duration of the tour\, and exhibits on display will include When the Earth Whispers Back: Nature’s Hope & Ocean Forests: Our Coastal Communities. While the walkthrough will be primarily self-guided and spent in comfortable silence\, attendees will receive a staff introduction\, optional fill-in art mindfulness guide\, and a provided picnic lunch at Hans Christian Andersen Park (customizable lunch order). We gently suggest wearing comfortable clothing and shoes\, similar to a traditional meditation session. \n  \nTour Schedule: \n9AM-10:30AM – Slow Art Walkthrough \n11AM-12:30PM – Picnic Lunch at Hans Christian Andersen Park (provided by Panino) \n  \nThe class fee for this tour is $30 for (CalNAM) Members\, and $35 (CalNAM) Non-Members per participant\, all supplies included. Advance registration is required\, 10 attendees max. This tour is best suited for ages 16yrs+.
URL:https://events.keyt.com/event/slow-art-walkthrough-picnic-lunch/
LOCATION:California Nature Art Museum\, 1511-B Mission Drive\, Solvang\, 93463\, United States
CATEGORIES:Art and Exhibits,Health and Wellness
ATTACH;FMTTYPE=image/jpeg:https://events.keyt.com/wp-content/uploads/2026/04/BEES-170-scaled.jpg
ORGANIZER;CN="California Nature Art Museum":MAILTO:rachel@wildlingmuseum.org
END:VEVENT
BEGIN:VEVENT
DTSTART;TZID=America/Los_Angeles:20260610T180000
DTEND;TZID=America/Los_Angeles:20260610T200000
DTSTAMP:20260421T003648
CREATED:20251230T013039Z
LAST-MODIFIED:20251230T013039Z
UID:16295-1781114400-1781121600@events.keyt.com
SUMMARY:Sewing & Mending Club
DESCRIPTION:Join Our Monthly Sewing & Mending Club! Pre-registration is required. \nDiscover the joy of creating and repairing with our welcoming community at the EE Makerspace. Whether you’re a seasoned stitcher or just beginning your sewing journey\, our monthly club is the perfect place to bring your creative projects to life. \nOn the 2nd Wednesday of the month\, we invite you to join us with your sewing ideas\, projects\, or mending needs. Our Makerspace is equipped with 12 sewing machines and a wide array of materials to fuel your creativity. Plus\, our knowledgeable staff is always on hand to offer guidance\, tips\, and tricks to help you bring your vision to reality. \nFrom crafting personalized garments to reviving old favorites through expert mending techniques\, there’s no limit to what you can achieve with our supportive community by your side. \nJoin us for an evening of creativity\, camaraderie\, and crafting excellence. Your next sewing adventure awaits at the EE Makerspace. See you there!
URL:https://events.keyt.com/event/sewing-mending-club-10/2026-06-10/
LOCATION:Explore Ecology Makerspace\, 302 East Cota Street\, Santa Barbara\, CA\, 93101\, United States
CATEGORIES:Art and Exhibits,Other
ATTACH;FMTTYPE=image/jpeg:https://events.keyt.com/wp-content/uploads/2025/12/Sewing-and-Mending-Club-1.jpg
END:VEVENT
BEGIN:VEVENT
DTSTART;TZID=America/Los_Angeles:20260613T100000
DTEND;TZID=America/Los_Angeles:20260613T130000
DTSTAMP:20260421T003648
CREATED:20260303T010716Z
LAST-MODIFIED:20260303T010716Z
UID:15329-1781344800-1781355600@events.keyt.com
SUMMARY:Kids Club
DESCRIPTION:Every Second Saturday of the Month | 10am – 1pm\nJoin Us for Kids Club Fun Events at Paseo Nuevo! \nBring your family to the De La Guerra Place\, located directly in front of the Paseo Nuevo Cinemas! \nEnjoy free entertainment at the Paseo Nuevo Kids Club\, featuring creative arts\, STEM projects\, and more. All supplies are complimentary\, making it a perfect day out for kids of all ages!
URL:https://events.keyt.com/event/kids-club/2026-06-13/
LOCATION:Paseo Nuevo\, 651 Paseo Nuevo\, Santa Barbara\, 93101
CATEGORIES:Art and Exhibits,Community
ATTACH;FMTTYPE=image/png:https://events.keyt.com/wp-content/uploads/2026/02/Screenshot-2026-02-25-at-11.43.51-AM-scaled.png
END:VEVENT
BEGIN:VEVENT
DTSTART;TZID=America/Los_Angeles:20260619T170000
DTEND;TZID=America/Los_Angeles:20260619T200000
DTSTAMP:20260421T003648
CREATED:20260218T020014Z
LAST-MODIFIED:20260218T020014Z
UID:15161-1781888400-1781899200@events.keyt.com
SUMMARY:GALLERY ROW - 3rd FRIDAY ART WALK - LA CUMBRE PLAZA\, Santa Barbara
DESCRIPTION:Art comes alive at La Cumbre Plaza Gallery Row. Explore dynamic galleries showcasing bold\, modern\, and unforgettable works by Santa Barbara–based and regional artists. Open Tue–Sun\, 12–5 PM.\n✨ Join us for the La Cumbre Gallery Row Art Walk – 3rd Friday\, 5–8 PM. Enjoy art\, music\, and inspiration. Participating Galleries: La Cumbre Center for Creative Arts LCCCA): Elevate\, Fine Line and Illuminations Gallery; Voice Gallery; Museum of Tibetan Art & Culture\, Grace Fisher’s Inclusive Arts Clubhouse.
URL:https://events.keyt.com/event/gallery-row-3rd-friday-art-walk-la-cumbre-plaza-santa-barbara/2026-06-19/
LOCATION:LA CUMBRE PLAZA GALLERY ROW\, 121 S. Hope Avenue\, Santa Barbara\, CA\, 93105\, United States
CATEGORIES:Art and Exhibits,Community,Music
ATTACH;FMTTYPE=image/jpeg:https://events.keyt.com/wp-content/uploads/2026/02/KYET-Calendar-1600-Wx900H.jpg
END:VEVENT
BEGIN:VEVENT
DTSTART;TZID=America/Los_Angeles:20260711T100000
DTEND;TZID=America/Los_Angeles:20260711T130000
DTSTAMP:20260421T003648
CREATED:20260303T010716Z
LAST-MODIFIED:20260303T010716Z
UID:15330-1783764000-1783774800@events.keyt.com
SUMMARY:Kids Club
DESCRIPTION:Every Second Saturday of the Month | 10am – 1pm\nJoin Us for Kids Club Fun Events at Paseo Nuevo! \nBring your family to the De La Guerra Place\, located directly in front of the Paseo Nuevo Cinemas! \nEnjoy free entertainment at the Paseo Nuevo Kids Club\, featuring creative arts\, STEM projects\, and more. All supplies are complimentary\, making it a perfect day out for kids of all ages!
URL:https://events.keyt.com/event/kids-club/2026-07-11/
LOCATION:Paseo Nuevo\, 651 Paseo Nuevo\, Santa Barbara\, 93101
CATEGORIES:Art and Exhibits,Community
ATTACH;FMTTYPE=image/png:https://events.keyt.com/wp-content/uploads/2026/02/Screenshot-2026-02-25-at-11.43.51-AM-scaled.png
END:VEVENT
BEGIN:VEVENT
DTSTART;TZID=America/Los_Angeles:20260717T170000
DTEND;TZID=America/Los_Angeles:20260717T200000
DTSTAMP:20260421T003648
CREATED:20260218T020015Z
LAST-MODIFIED:20260218T020015Z
UID:15162-1784307600-1784318400@events.keyt.com
SUMMARY:GALLERY ROW - 3rd FRIDAY ART WALK - LA CUMBRE PLAZA\, Santa Barbara
DESCRIPTION:Art comes alive at La Cumbre Plaza Gallery Row. Explore dynamic galleries showcasing bold\, modern\, and unforgettable works by Santa Barbara–based and regional artists. Open Tue–Sun\, 12–5 PM.\n✨ Join us for the La Cumbre Gallery Row Art Walk – 3rd Friday\, 5–8 PM. Enjoy art\, music\, and inspiration. Participating Galleries: La Cumbre Center for Creative Arts LCCCA): Elevate\, Fine Line and Illuminations Gallery; Voice Gallery; Museum of Tibetan Art & Culture\, Grace Fisher’s Inclusive Arts Clubhouse.
URL:https://events.keyt.com/event/gallery-row-3rd-friday-art-walk-la-cumbre-plaza-santa-barbara/2026-07-17/
LOCATION:LA CUMBRE PLAZA GALLERY ROW\, 121 S. Hope Avenue\, Santa Barbara\, CA\, 93105\, United States
CATEGORIES:Art and Exhibits,Community,Music
ATTACH;FMTTYPE=image/jpeg:https://events.keyt.com/wp-content/uploads/2026/02/KYET-Calendar-1600-Wx900H.jpg
END:VEVENT
BEGIN:VEVENT
DTSTART;TZID=America/Los_Angeles:20260808T100000
DTEND;TZID=America/Los_Angeles:20260808T130000
DTSTAMP:20260421T003648
CREATED:20260303T010716Z
LAST-MODIFIED:20260303T010716Z
UID:15331-1786183200-1786194000@events.keyt.com
SUMMARY:Kids Club
DESCRIPTION:Every Second Saturday of the Month | 10am – 1pm\nJoin Us for Kids Club Fun Events at Paseo Nuevo! \nBring your family to the De La Guerra Place\, located directly in front of the Paseo Nuevo Cinemas! \nEnjoy free entertainment at the Paseo Nuevo Kids Club\, featuring creative arts\, STEM projects\, and more. All supplies are complimentary\, making it a perfect day out for kids of all ages!
URL:https://events.keyt.com/event/kids-club/2026-08-08/
LOCATION:Paseo Nuevo\, 651 Paseo Nuevo\, Santa Barbara\, 93101
CATEGORIES:Art and Exhibits,Community
ATTACH;FMTTYPE=image/png:https://events.keyt.com/wp-content/uploads/2026/02/Screenshot-2026-02-25-at-11.43.51-AM-scaled.png
END:VEVENT
BEGIN:VEVENT
DTSTART;TZID=America/Los_Angeles:20260821T170000
DTEND;TZID=America/Los_Angeles:20260821T200000
DTSTAMP:20260421T003648
CREATED:20260218T020015Z
LAST-MODIFIED:20260218T020015Z
UID:15163-1787331600-1787342400@events.keyt.com
SUMMARY:GALLERY ROW - 3rd FRIDAY ART WALK - LA CUMBRE PLAZA\, Santa Barbara
DESCRIPTION:Art comes alive at La Cumbre Plaza Gallery Row. Explore dynamic galleries showcasing bold\, modern\, and unforgettable works by Santa Barbara–based and regional artists. Open Tue–Sun\, 12–5 PM.\n✨ Join us for the La Cumbre Gallery Row Art Walk – 3rd Friday\, 5–8 PM. Enjoy art\, music\, and inspiration. Participating Galleries: La Cumbre Center for Creative Arts LCCCA): Elevate\, Fine Line and Illuminations Gallery; Voice Gallery; Museum of Tibetan Art & Culture\, Grace Fisher’s Inclusive Arts Clubhouse.
URL:https://events.keyt.com/event/gallery-row-3rd-friday-art-walk-la-cumbre-plaza-santa-barbara/2026-08-21/
LOCATION:LA CUMBRE PLAZA GALLERY ROW\, 121 S. Hope Avenue\, Santa Barbara\, CA\, 93105\, United States
CATEGORIES:Art and Exhibits,Community,Music
ATTACH;FMTTYPE=image/jpeg:https://events.keyt.com/wp-content/uploads/2026/02/KYET-Calendar-1600-Wx900H.jpg
END:VEVENT
BEGIN:VEVENT
DTSTART;TZID=America/Los_Angeles:20260912T100000
DTEND;TZID=America/Los_Angeles:20260912T130000
DTSTAMP:20260421T003648
CREATED:20260303T010716Z
LAST-MODIFIED:20260303T010716Z
UID:15332-1789207200-1789218000@events.keyt.com
SUMMARY:Kids Club
DESCRIPTION:Every Second Saturday of the Month | 10am – 1pm\nJoin Us for Kids Club Fun Events at Paseo Nuevo! \nBring your family to the De La Guerra Place\, located directly in front of the Paseo Nuevo Cinemas! \nEnjoy free entertainment at the Paseo Nuevo Kids Club\, featuring creative arts\, STEM projects\, and more. All supplies are complimentary\, making it a perfect day out for kids of all ages!
URL:https://events.keyt.com/event/kids-club/2026-09-12/
LOCATION:Paseo Nuevo\, 651 Paseo Nuevo\, Santa Barbara\, 93101
CATEGORIES:Art and Exhibits,Community
ATTACH;FMTTYPE=image/png:https://events.keyt.com/wp-content/uploads/2026/02/Screenshot-2026-02-25-at-11.43.51-AM-scaled.png
END:VEVENT
BEGIN:VEVENT
DTSTART;TZID=America/Los_Angeles:20260918T170000
DTEND;TZID=America/Los_Angeles:20260918T200000
DTSTAMP:20260421T003648
CREATED:20260218T020015Z
LAST-MODIFIED:20260218T020015Z
UID:15164-1789750800-1789761600@events.keyt.com
SUMMARY:GALLERY ROW - 3rd FRIDAY ART WALK - LA CUMBRE PLAZA\, Santa Barbara
DESCRIPTION:Art comes alive at La Cumbre Plaza Gallery Row. Explore dynamic galleries showcasing bold\, modern\, and unforgettable works by Santa Barbara–based and regional artists. Open Tue–Sun\, 12–5 PM.\n✨ Join us for the La Cumbre Gallery Row Art Walk – 3rd Friday\, 5–8 PM. Enjoy art\, music\, and inspiration. Participating Galleries: La Cumbre Center for Creative Arts LCCCA): Elevate\, Fine Line and Illuminations Gallery; Voice Gallery; Museum of Tibetan Art & Culture\, Grace Fisher’s Inclusive Arts Clubhouse.
URL:https://events.keyt.com/event/gallery-row-3rd-friday-art-walk-la-cumbre-plaza-santa-barbara/2026-09-18/
LOCATION:LA CUMBRE PLAZA GALLERY ROW\, 121 S. Hope Avenue\, Santa Barbara\, CA\, 93105\, United States
CATEGORIES:Art and Exhibits,Community,Music
ATTACH;FMTTYPE=image/jpeg:https://events.keyt.com/wp-content/uploads/2026/02/KYET-Calendar-1600-Wx900H.jpg
END:VEVENT
BEGIN:VEVENT
DTSTART;TZID=America/Los_Angeles:20261010T100000
DTEND;TZID=America/Los_Angeles:20261010T130000
DTSTAMP:20260421T003648
CREATED:20260303T010716Z
LAST-MODIFIED:20260303T010716Z
UID:15333-1791626400-1791637200@events.keyt.com
SUMMARY:Kids Club
DESCRIPTION:Every Second Saturday of the Month | 10am – 1pm\nJoin Us for Kids Club Fun Events at Paseo Nuevo! \nBring your family to the De La Guerra Place\, located directly in front of the Paseo Nuevo Cinemas! \nEnjoy free entertainment at the Paseo Nuevo Kids Club\, featuring creative arts\, STEM projects\, and more. All supplies are complimentary\, making it a perfect day out for kids of all ages!
URL:https://events.keyt.com/event/kids-club/2026-10-10/
LOCATION:Paseo Nuevo\, 651 Paseo Nuevo\, Santa Barbara\, 93101
CATEGORIES:Art and Exhibits,Community
ATTACH;FMTTYPE=image/png:https://events.keyt.com/wp-content/uploads/2026/02/Screenshot-2026-02-25-at-11.43.51-AM-scaled.png
END:VEVENT
BEGIN:VEVENT
DTSTART;TZID=America/Los_Angeles:20261114T100000
DTEND;TZID=America/Los_Angeles:20261114T130000
DTSTAMP:20260421T003648
CREATED:20260303T010717Z
LAST-MODIFIED:20260303T010717Z
UID:15334-1794650400-1794661200@events.keyt.com
SUMMARY:Kids Club
DESCRIPTION:Every Second Saturday of the Month | 10am – 1pm\nJoin Us for Kids Club Fun Events at Paseo Nuevo! \nBring your family to the De La Guerra Place\, located directly in front of the Paseo Nuevo Cinemas! \nEnjoy free entertainment at the Paseo Nuevo Kids Club\, featuring creative arts\, STEM projects\, and more. All supplies are complimentary\, making it a perfect day out for kids of all ages!
URL:https://events.keyt.com/event/kids-club/2026-11-14/
LOCATION:Paseo Nuevo\, 651 Paseo Nuevo\, Santa Barbara\, 93101
CATEGORIES:Art and Exhibits,Community
ATTACH;FMTTYPE=image/png:https://events.keyt.com/wp-content/uploads/2026/02/Screenshot-2026-02-25-at-11.43.51-AM-scaled.png
END:VEVENT
BEGIN:VEVENT
DTSTART;TZID=America/Los_Angeles:20261212T100000
DTEND;TZID=America/Los_Angeles:20261212T130000
DTSTAMP:20260421T003648
CREATED:20260303T010717Z
LAST-MODIFIED:20260303T010717Z
UID:15335-1797069600-1797080400@events.keyt.com
SUMMARY:Kids Club
DESCRIPTION:Every Second Saturday of the Month | 10am – 1pm\nJoin Us for Kids Club Fun Events at Paseo Nuevo! \nBring your family to the De La Guerra Place\, located directly in front of the Paseo Nuevo Cinemas! \nEnjoy free entertainment at the Paseo Nuevo Kids Club\, featuring creative arts\, STEM projects\, and more. All supplies are complimentary\, making it a perfect day out for kids of all ages!
URL:https://events.keyt.com/event/kids-club/2026-12-12/
LOCATION:Paseo Nuevo\, 651 Paseo Nuevo\, Santa Barbara\, 93101
CATEGORIES:Art and Exhibits,Community
ATTACH;FMTTYPE=image/png:https://events.keyt.com/wp-content/uploads/2026/02/Screenshot-2026-02-25-at-11.43.51-AM-scaled.png
END:VEVENT
BEGIN:VEVENT
DTSTART;TZID=America/Los_Angeles:20270104T080000
DTEND;TZID=America/Los_Angeles:20270104T090000
DTSTAMP:20260421T003648
CREATED:20230622T174336Z
LAST-MODIFIED:20230622T174336Z
UID:8407-1799049600-1799053200@events.keyt.com
SUMMARY:MiEN Innovation Event
DESCRIPTION:MiEN Company and Dr. Christina Counts are ready to meet you on our virtual presentation of a complete project build for you! MiEN representatives serve clients around the globe\, creating inspired furniture through a blend of smart design\, durable materials\, and fun.
URL:https://events.keyt.com/event/mien-innovation-event/2027-01-04/
LOCATION:MiEN\, 2547 3 Mile Rd NW STE F\, Grand Rapids\, 49534
CATEGORIES:Art and Exhibits,Community,Education,Health and Wellness,Shopping
ATTACH;FMTTYPE=image/jpeg:https://events.keyt.com/wp-content/uploads/2022/04/MiEN-4.jpg
ORGANIZER;CN="MiEN":MAILTO:sdm@miencompany.com
END:VEVENT
BEGIN:VEVENT
DTSTART;TZID=America/Los_Angeles:20280103T080000
DTEND;TZID=America/Los_Angeles:20280103T090000
DTSTAMP:20260421T003648
CREATED:20230622T174336Z
LAST-MODIFIED:20230622T174336Z
UID:14407-1830499200-1830502800@events.keyt.com
SUMMARY:MiEN Innovation Event
DESCRIPTION:MiEN Company and Dr. Christina Counts are ready to meet you on our virtual presentation of a complete project build for you! MiEN representatives serve clients around the globe\, creating inspired furniture through a blend of smart design\, durable materials\, and fun.
URL:https://events.keyt.com/event/mien-innovation-event/2028-01-03/
LOCATION:MiEN\, 2547 3 Mile Rd NW STE F\, Grand Rapids\, 49534
CATEGORIES:Art and Exhibits,Community,Education,Health and Wellness,Shopping
ATTACH;FMTTYPE=image/jpeg:https://events.keyt.com/wp-content/uploads/2022/04/MiEN-4.jpg
ORGANIZER;CN="MiEN":MAILTO:sdm@miencompany.com
END:VEVENT
END:VCALENDAR