BEGIN:VCALENDAR
VERSION:2.0
PRODID:-//KEYT Events - ECPv6.15.20//NONSGML v1.0//EN
CALSCALE:GREGORIAN
METHOD:PUBLISH
X-ORIGINAL-URL:https://events.keyt.com
X-WR-CALDESC:Events for KEYT Events
REFRESH-INTERVAL;VALUE=DURATION:PT1H
X-Robots-Tag:noindex
X-PUBLISHED-TTL:PT1H
BEGIN:VTIMEZONE
TZID:America/Los_Angeles
BEGIN:DAYLIGHT
TZOFFSETFROM:-0800
TZOFFSETTO:-0700
TZNAME:PDT
DTSTART:20240310T100000
END:DAYLIGHT
BEGIN:STANDARD
TZOFFSETFROM:-0700
TZOFFSETTO:-0800
TZNAME:PST
DTSTART:20241103T090000
END:STANDARD
BEGIN:DAYLIGHT
TZOFFSETFROM:-0800
TZOFFSETTO:-0700
TZNAME:PDT
DTSTART:20250309T100000
END:DAYLIGHT
BEGIN:STANDARD
TZOFFSETFROM:-0700
TZOFFSETTO:-0800
TZNAME:PST
DTSTART:20251102T090000
END:STANDARD
BEGIN:DAYLIGHT
TZOFFSETFROM:-0800
TZOFFSETTO:-0700
TZNAME:PDT
DTSTART:20260308T100000
END:DAYLIGHT
BEGIN:STANDARD
TZOFFSETFROM:-0700
TZOFFSETTO:-0800
TZNAME:PST
DTSTART:20261101T090000
END:STANDARD
BEGIN:DAYLIGHT
TZOFFSETFROM:-0800
TZOFFSETTO:-0700
TZNAME:PDT
DTSTART:20270314T100000
END:DAYLIGHT
BEGIN:STANDARD
TZOFFSETFROM:-0700
TZOFFSETTO:-0800
TZNAME:PST
DTSTART:20271107T090000
END:STANDARD
END:VTIMEZONE
BEGIN:VEVENT
DTSTART;TZID=America/Los_Angeles:20251015T090000
DTEND;TZID=America/Los_Angeles:20260612T160000
DTSTAMP:20260420T193527
CREATED:20250903T013556Z
LAST-MODIFIED:20251020T214305Z
UID:12705-1760518800-1781280000@events.keyt.com
SUMMARY:Unyielding Voices: Global Resistance and the Black Radical Tradition
DESCRIPTION:“Through most of our lives and work\, Cedric and I have had deep commitments to collaboration\, internationalism\, and solidarity movements.”–Elizabeth Robinson\, 2024 \nThis exhibition documents the life’s work of Cedric J. Robinson and Elizabeth Peters Robinson\, placing it in the global context of the Black radical tradition. The Robinsons were renowned for their seminal scholarship and activism that had wide-ranging influence at UC Santa Barbara (UCSB)\, in academia\, and across many public arenas. The exhibition is drawn from the Cedric J. and Elizabeth P. Robinson Archive (“Robinson Archive”) and supplemented by a variety of materials from other collections in UCSB Library’s Special Research Collections\, as well as personal contributions from Elizabeth Robinson. \n“[The Black radical tradition is] the continuing development of a collective consciousness informed by the historical struggles for liberation and motivated by the shared sense of obligation to preserve the collective being\, the ontological totality.” \n–Cedric Robinson\, Black Marxism: The Making of the Black Radical Tradition\, 1983 \nA deeply influential educator\, Cedric Robinson (1940-2016) was a well-known scholar of racial capitalism and the Black radical tradition\, and an active participant in political movements\, both at home and internationally. For more than 30 years\, Elizabeth Robinson has been an educator\, social worker\, former associate director for media at KCSB-FM radio\, activist\, and community media producer. \nWith the 2024 acquisition of the Robinson Archive from Elizabeth Robinson and the Robinsons’ daughter Najda Ife Robinson-Mayer\, the Library launched the Post-Custodial\, Community-based and Participatory Archives Project. This initiative aims to establish a living archive at UCSB centered on the Black Radical Tradition and the broader field of Black Studies. The Robinson Archive serves as an important anchor for the larger project\, and will enable global research\, teaching\, scholarship\, and sociopolitical and cultural activism for future generations. \nThis exhibition was curated by Yolanda Blue\, the Library’s Curator of American and International History\, Politics\, and Cultures Collections\, in collaboration with New York University and UCSB Library staff.
URL:https://events.keyt.com/event/unyielding-voices-global-resistance-and-the-black-radical-tradition/
LOCATION:UCSB Library: Special Research Collections\, UCSB Library\, Santa Barbara\, CA\, 93106\, United States
CATEGORIES:Art and Exhibits,Community,Education
ATTACH;FMTTYPE=image/jpeg:https://events.keyt.com/wp-content/uploads/2025/09/EX25_UnyeildingVoices1_square_920.jpg
END:VEVENT
BEGIN:VEVENT
DTSTART;TZID=America/Los_Angeles:20260406T090000
DTEND;TZID=America/Los_Angeles:20260612T160000
DTSTAMP:20260420T193527
CREATED:20260331T191226Z
LAST-MODIFIED:20260331T191226Z
UID:16190-1775466000-1781280000@events.keyt.com
SUMMARY:Infinite Variety: The Many Lives of Shakespeare’s Texts
DESCRIPTION:William Shakespeare’s plays transcended their origins almost immediately. Even during his lifetime\, his unforgettable characters and indelible lines were already escaping the stage – taken up by others and repurposed and circulated in diverse ways. While his plays have been performed continuously for over four hundred years\, they have also left the stage behind to live on elsewhere. \nPrinters and publishers have reproduced Shakespeare’s words in every possible textual format and in numerous languages. Literary and visual artists have continuously adapted and reinterpreted them in various artforms. Musicians and choreographers have refashioned his stories into opera\, ballet\, pop songs\, and modern dance. Meanwhile\, filmmakers\, television writers\, and videogame creators have transformed them for modern screens. This exhibition explores the many forms and many afterlives of Shakespeare’s art – from a single scrap of his crabbed handwritten text to the digital media of the twenty-first century. \nInfinite Variety was co-curated by David Gartrell\, the Library’s Curator of Rare Books and Manuscripts\, and Professor Jim Kearney\, Department of English. The exhibition is on display in the Jackie Laskoff Exhibition Alcove\, located in the Sara Miller McCune Arts Library (1st Floor\, Mountain Side)\, and is co-sponsored by UCSB Library and the Department of English.
URL:https://events.keyt.com/event/infinite-variety-the-many-lives-of-shakespeares-texts/
LOCATION:UCSB Library\, UCSB Library Bldg. 525 UCen Road\, Santa Barbara\, CA\, 93101\, United States
CATEGORIES:Art and Exhibits
ATTACH;FMTTYPE=image/jpeg:https://events.keyt.com/wp-content/uploads/2026/03/EX26_Shakespeare_IV_flower_920.jpg
END:VEVENT
END:VCALENDAR