BEGIN:VCALENDAR
VERSION:2.0
PRODID:-//KEYT Events - ECPv6.15.20//NONSGML v1.0//EN
CALSCALE:GREGORIAN
METHOD:PUBLISH
X-WR-CALNAME:KEYT Events
X-ORIGINAL-URL:https://events.keyt.com
X-WR-CALDESC:Events for KEYT Events
REFRESH-INTERVAL;VALUE=DURATION:PT1H
X-Robots-Tag:noindex
X-PUBLISHED-TTL:PT1H
BEGIN:VTIMEZONE
TZID:America/Los_Angeles
BEGIN:DAYLIGHT
TZOFFSETFROM:-0800
TZOFFSETTO:-0700
TZNAME:PDT
DTSTART:20250309T100000
END:DAYLIGHT
BEGIN:STANDARD
TZOFFSETFROM:-0700
TZOFFSETTO:-0800
TZNAME:PST
DTSTART:20251102T090000
END:STANDARD
BEGIN:DAYLIGHT
TZOFFSETFROM:-0800
TZOFFSETTO:-0700
TZNAME:PDT
DTSTART:20260308T100000
END:DAYLIGHT
BEGIN:STANDARD
TZOFFSETFROM:-0700
TZOFFSETTO:-0800
TZNAME:PST
DTSTART:20261101T090000
END:STANDARD
BEGIN:DAYLIGHT
TZOFFSETFROM:-0800
TZOFFSETTO:-0700
TZNAME:PDT
DTSTART:20270314T100000
END:DAYLIGHT
BEGIN:STANDARD
TZOFFSETFROM:-0700
TZOFFSETTO:-0800
TZNAME:PST
DTSTART:20271107T090000
END:STANDARD
END:VTIMEZONE
BEGIN:VEVENT
DTSTART;TZID=America/Los_Angeles:20260503T070000
DTEND;TZID=America/Los_Angeles:20260503T150000
DTSTAMP:20260421T031330
CREATED:20260414T235454Z
LAST-MODIFIED:20260414T235454Z
UID:16499-1777791600-1777820400@events.keyt.com
SUMMARY:Cayucos Antique Street Faire
DESCRIPTION:Join us at the Cayucos Chamber of Commerce’s upcoming Antique Street Faire on Sunday\, May 3rd\, 2026\, from 7am to 3pm in downtown Cayucos! This family-friendly event near the picturesque Pacific Ocean boasts over 100 dealer booths and food vendors\, offering a diverse array of antiques\, collectibles\, furniture\, art\, décor\, apparel\, and more from local antique retailers. Only a short 20-minute drive from San Luis Obispo\, this faire promises a delightful day of treasure hunting and exploration. Don’t miss out on the opportunity to discover unique finds while enjoying the charming coastal atmosphere. Free parking and admission make it even more convenient to attend. Mark your calendars and get ready for a memorable experience filled with nostalgia and excitement!
URL:https://events.keyt.com/event/cayucos-antique-street-faire-5/
LOCATION:Cayucos – Downtown\, 10 N. Ocean Ave\, Cayucos\, CA\, 93430\, United States
CATEGORIES:Fairs and Festivals
ATTACH;FMTTYPE=image/png:https://events.keyt.com/wp-content/uploads/2026/04/May-3-2026-yard-sign-d.png
ORGANIZER;CN="Cayucos Chamber of Commerce":MAILTO:cayucos.antique.street.faire@gmail.com
END:VEVENT
BEGIN:VEVENT
DTSTART;TZID=America/Los_Angeles:20260503T140000
DTEND;TZID=America/Los_Angeles:20260503T160000
DTSTAMP:20260421T031330
CREATED:20260326T234821Z
LAST-MODIFIED:20260326T234821Z
UID:15973-1777816800-1777824000@events.keyt.com
SUMMARY:Lulu Hyggelig's Birthday Party
DESCRIPTION:Let’s Party! Tickets are on sale now! Join us for our biggest bash of the year on Sunday\, May 3rd 2026 from 2PM-4PM for Lulu Hyggelig’s Birthday Party! We will be celebrating one of CalNAM’s biggest and most popular exhibitions yet\, Lulu Hyggelig – Troll #154 by world-renowned Danish Artist Thomas Dambo. This event-to-remember will include: \nlive DJ\, exclusive troll photo-ops\, raffle prizes\, birthday cake\, free crafts: birthday card & party hat decorating\, appetizers\, charcuterie\, wine & mocktails\, and our first public introduction to the NEW Executive Director! \nQuestions? Contact exec.director@calnatureartmuseum.org
URL:https://events.keyt.com/event/lulu-hyggeligs-birthday-party/
LOCATION:California Nature Art Museum\, 1511-B Mission Drive\, Solvang\, 93463\, United States
CATEGORIES:Art and Exhibits,Community,Fairs and Festivals
ATTACH;FMTTYPE=image/jpeg:https://events.keyt.com/wp-content/uploads/2026/03/Lulu-Hyggelig_Photo-Credit-Bob-Canepa-scaled.jpg
ORGANIZER;CN="California Nature Art Museum":MAILTO:rachel@wildlingmuseum.org
END:VEVENT
BEGIN:VEVENT
DTSTART;TZID=America/Los_Angeles:20260516T093000
DTEND;TZID=America/Los_Angeles:20260517T183000
DTSTAMP:20260421T031330
CREATED:20260303T010613Z
LAST-MODIFIED:20260303T010613Z
UID:15307-1778923800-1779042600@events.keyt.com
SUMMARY:40th Annual California Strawberry Festival
DESCRIPTION:Celebrating its 40th year\, the California Strawberry Festival returns Saturday and Sunday\, May 16 and 17 at the Ventura County Fairgrounds (10 W. Harbor Blvd.\, Ventura\, CA 93001).  The family-friendly event features Strawberry-themed favorites\, including strawberry nachos\, chocolate-dipped strawberries\, strawberry kabobs\, strawberry popcorn\, margaritas and more. \nFestival goers can also enjoy nearly 150 arts and crafts vendors\, an expanded Strawberryland for kids\, live entertainment on three stages\, carnival rides\, and a “build-your-own” Strawberry Shortcake Experience. \nTrays of freshly picked\, vine-ripened strawberries are available for purchase at the festival and used in festival strawberry-themed foods. \nSince its inception\, the nonprofit festival has contributed over $4.9 million to Southern California nonprofit organizations. \nLimited on-site parking ($30). Visitors are encouraged to use the free park and ride shuttles nearby or take advantage of the Ventura Amtrak Station across the street. Click www.castrawberryfestival.org/getting-here for transportation options. \nFor more about the festival\, go to www.CAStrawberryFestival.org. \nAdmission: \n$15 General Admission \n$10 Active military and dependents with ID (purchased at the Festival Gate) and Seniors 62+ \n$8 Youth (ages 5-12) \nFree for Children 4 and under \n  \nParking: Limited on-site parking ($30) \nFree Bicycle Valet \nFree Park & Ride Shuttles: Locations in Ventura and Oxnard \nTransit: Ventura Amtrak Station located directly across the street
URL:https://events.keyt.com/event/40th-annual-california-strawberry-festival/
LOCATION:Ventura County Fairgrounds\, 10 Harbor Drive\, Ventura\, CA 93001\, 10 Harbor Drive\, Ventura\, 93001
CATEGORIES:Art and Exhibits,Fairs and Festivals,Food and Drink
ATTACH;FMTTYPE=image/jpeg:https://events.keyt.com/wp-content/uploads/2026/02/Boxes-of-strawberries-1.jpg
ORGANIZER;CN="California Strawberry Festival":MAILTO:info@castrawberryfestival.org
END:VEVENT
END:VCALENDAR