BEGIN:VCALENDAR
VERSION:2.0
PRODID:-//KEYT Events - ECPv6.15.20//NONSGML v1.0//EN
CALSCALE:GREGORIAN
METHOD:PUBLISH
X-ORIGINAL-URL:https://events.keyt.com
X-WR-CALDESC:Events for KEYT Events
REFRESH-INTERVAL;VALUE=DURATION:PT1H
X-Robots-Tag:noindex
X-PUBLISHED-TTL:PT1H
BEGIN:VTIMEZONE
TZID:America/Los_Angeles
BEGIN:DAYLIGHT
TZOFFSETFROM:-0800
TZOFFSETTO:-0700
TZNAME:PDT
DTSTART:20250309T100000
END:DAYLIGHT
BEGIN:STANDARD
TZOFFSETFROM:-0700
TZOFFSETTO:-0800
TZNAME:PST
DTSTART:20251102T090000
END:STANDARD
BEGIN:DAYLIGHT
TZOFFSETFROM:-0800
TZOFFSETTO:-0700
TZNAME:PDT
DTSTART:20260308T100000
END:DAYLIGHT
BEGIN:STANDARD
TZOFFSETFROM:-0700
TZOFFSETTO:-0800
TZNAME:PST
DTSTART:20261101T090000
END:STANDARD
BEGIN:DAYLIGHT
TZOFFSETFROM:-0800
TZOFFSETTO:-0700
TZNAME:PDT
DTSTART:20270314T100000
END:DAYLIGHT
BEGIN:STANDARD
TZOFFSETFROM:-0700
TZOFFSETTO:-0800
TZNAME:PST
DTSTART:20271107T090000
END:STANDARD
END:VTIMEZONE
BEGIN:VEVENT
DTSTART;TZID=America/Los_Angeles:20260101T173000
DTEND;TZID=America/Los_Angeles:20260101T193000
DTSTAMP:20260423T040402
CREATED:20250418T182327Z
LAST-MODIFIED:20250418T182327Z
UID:10532-1767288600-1767295800@events.keyt.com
SUMMARY:Kiwanis Music Nites
DESCRIPTION:Free Family Friendly Concert Series\n\n\n\n\n\n\n\n\n\n\n\n\n\n\n\n\n\n\n\n\n\n\n\n\n\n\n\n\n\n\nJoin us for an unforgettable summer of music\, community\, and fun at the Kiwanis Music Nites concert series! This family-friendly\, free event brings the Santa Barbara community together for lively performances\, delicious BBQ\, refreshing drinks\, exciting raffles\, local vendors\, and plenty of dancing. Every dollar raised goes toward supporting local kids and the many incredible nonprofits we partner with. Come for the music\, stay for the memories\, and help make a difference.  See you there!
URL:https://events.keyt.com/event/kiwanis-music-nites/2026-01-01/
LOCATION:Elings Park\, 1298 Las Positas Road\, Santa Barbara\, 93105
CATEGORIES:Community,Fundraisers and Galas,Music
ATTACH;FMTTYPE=image/jpeg:https://events.keyt.com/wp-content/uploads/2025/04/music-nites-2025d.jpg
END:VEVENT
BEGIN:VEVENT
DTSTART;TZID=America/Los_Angeles:20260118T183000
DTEND;TZID=America/Los_Angeles:20260118T203000
DTSTAMP:20260423T040402
CREATED:20251216T012615Z
LAST-MODIFIED:20251216T012615Z
UID:14261-1768761000-1768768200@events.keyt.com
SUMMARY:Tommy Castro & The Painkillers
DESCRIPTION:Tommy Castro & The Painkillers at The Siren in Morro Bay \nSun\, Jan 18\, 2026 at 6:30 PM\nThe Siren\n900 Main Street\, Morro Bay\, CA 93442
URL:https://events.keyt.com/event/tommy-castro-the-painkillers/
LOCATION:The Siren\, 900 Main Street\, Morro Bay\, CA\, 93442\, United States
CATEGORIES:Music
ATTACH;FMTTYPE=image/png:https://events.keyt.com/wp-content/uploads/2025/12/1-2.png
ORGANIZER;CN="Ticketsauce":MAILTO:info@ticketsauce.com
END:VEVENT
BEGIN:VEVENT
DTSTART;TZID=America/Los_Angeles:20260124T180000
DTEND;TZID=America/Los_Angeles:20260124T193000
DTSTAMP:20260423T040402
CREATED:20260120T184825Z
LAST-MODIFIED:20260120T184825Z
UID:14729-1769277600-1769283000@events.keyt.com
SUMMARY:SB Voice Academy hosts Singer Showcase @ Soho
DESCRIPTION:Hi Music Lovers !   Mark Your Calendars ! \nAnother fabulous night of music with Santa Barbara’s All Star Band backing up our great line up of Singers. \nYou’ll be treated to Classic Rock\, Country\, Pop\, Blues and Jazz ! \nCome enjoy\, dance\, sing\, eat\, drink & share the love!  Make your reservations soon … we always fill the place. \nPerformers include: Joe Auchter\, Joe Rizk\, Lila Kubler-Dudgeon\, Olivia Bajor\, Teresa Bruzzo\, Allison Allen\, J.Lee\, Kiana De Souza \nSB Allstar Band: David Gorospe-Piano\, Dave Zeiher-Guitar\, Donzell Davis-Drums & Mychael Lomas-Bass. \nWith Vocal Coach\, Karen S. Lytle\, MA
URL:https://events.keyt.com/event/sb-voice-academy-hosts-singer-showcase-soho/
LOCATION:Soho Restaurant and Music Club\, 1221 State Street\, Santa Barbara\, 93101
CATEGORIES:Music
ATTACH;FMTTYPE=image/jpeg:https://events.keyt.com/wp-content/uploads/2026/01/12426-SOHO-Flyer-.jpg
ORGANIZER;CN="Karen S. Lytle%2C Voice Coach":MAILTO:kslytle@gmail.com
END:VEVENT
BEGIN:VEVENT
DTSTART;TZID=America/Los_Angeles:20260131T200000
DTEND;TZID=America/Los_Angeles:20260131T230000
DTSTAMP:20260423T040402
CREATED:20251216T012639Z
LAST-MODIFIED:20251216T012639Z
UID:14266-1769889600-1769900400@events.keyt.com
SUMMARY:AJ Lee & Blue Summit
DESCRIPTION:Sat\, Jan 31\, 2026 at 8:00 PM\nThe Siren\n900 Main Street\, Morro Bay\, CA 93442
URL:https://events.keyt.com/event/aj-lee-blue-summit/
LOCATION:The Siren\, 900 Main Street\, Morro Bay\, CA\, 93442\, United States
CATEGORIES:Music
ATTACH;FMTTYPE=image/png:https://events.keyt.com/wp-content/uploads/2025/12/1-3.png
ORGANIZER;CN="Ticketsauce":MAILTO:info@ticketsauce.com
END:VEVENT
END:VCALENDAR