BEGIN:VCALENDAR
VERSION:2.0
PRODID:-//KEYT Events - ECPv6.15.20//NONSGML v1.0//EN
CALSCALE:GREGORIAN
METHOD:PUBLISH
X-ORIGINAL-URL:https://events.keyt.com
X-WR-CALDESC:Events for KEYT Events
REFRESH-INTERVAL;VALUE=DURATION:PT1H
X-Robots-Tag:noindex
X-PUBLISHED-TTL:PT1H
BEGIN:VTIMEZONE
TZID:America/Los_Angeles
BEGIN:DAYLIGHT
TZOFFSETFROM:-0800
TZOFFSETTO:-0700
TZNAME:PDT
DTSTART:20250309T100000
END:DAYLIGHT
BEGIN:STANDARD
TZOFFSETFROM:-0700
TZOFFSETTO:-0800
TZNAME:PST
DTSTART:20251102T090000
END:STANDARD
BEGIN:DAYLIGHT
TZOFFSETFROM:-0800
TZOFFSETTO:-0700
TZNAME:PDT
DTSTART:20260308T100000
END:DAYLIGHT
BEGIN:STANDARD
TZOFFSETFROM:-0700
TZOFFSETTO:-0800
TZNAME:PST
DTSTART:20261101T090000
END:STANDARD
BEGIN:DAYLIGHT
TZOFFSETFROM:-0800
TZOFFSETTO:-0700
TZNAME:PDT
DTSTART:20270314T100000
END:DAYLIGHT
BEGIN:STANDARD
TZOFFSETFROM:-0700
TZOFFSETTO:-0800
TZNAME:PST
DTSTART:20271107T090000
END:STANDARD
END:VTIMEZONE
BEGIN:VEVENT
DTSTART;TZID=America/Los_Angeles:20260101T173000
DTEND;TZID=America/Los_Angeles:20260101T193000
DTSTAMP:20260425T082646
CREATED:20250418T182327Z
LAST-MODIFIED:20250418T182327Z
UID:10532-1767288600-1767295800@events.keyt.com
SUMMARY:Kiwanis Music Nites
DESCRIPTION:Free Family Friendly Concert Series\n\n\n\n\n\n\n\n\n\n\n\n\n\n\n\n\n\n\n\n\n\n\n\n\n\n\n\n\n\n\nJoin us for an unforgettable summer of music\, community\, and fun at the Kiwanis Music Nites concert series! This family-friendly\, free event brings the Santa Barbara community together for lively performances\, delicious BBQ\, refreshing drinks\, exciting raffles\, local vendors\, and plenty of dancing. Every dollar raised goes toward supporting local kids and the many incredible nonprofits we partner with. Come for the music\, stay for the memories\, and help make a difference.  See you there!
URL:https://events.keyt.com/event/kiwanis-music-nites/2026-01-01/
LOCATION:Elings Park\, 1298 Las Positas Road\, Santa Barbara\, 93105
CATEGORIES:Community,Fundraisers and Galas,Music
ATTACH;FMTTYPE=image/jpeg:https://events.keyt.com/wp-content/uploads/2025/04/music-nites-2025d.jpg
END:VEVENT
END:VCALENDAR