BEGIN:VCALENDAR
VERSION:2.0
PRODID:-//KEYT Events - ECPv6.15.20//NONSGML v1.0//EN
CALSCALE:GREGORIAN
METHOD:PUBLISH
X-ORIGINAL-URL:https://events.keyt.com
X-WR-CALDESC:Events for KEYT Events
REFRESH-INTERVAL;VALUE=DURATION:PT1H
X-Robots-Tag:noindex
X-PUBLISHED-TTL:PT1H
BEGIN:VTIMEZONE
TZID:America/Los_Angeles
BEGIN:DAYLIGHT
TZOFFSETFROM:-0800
TZOFFSETTO:-0700
TZNAME:PDT
DTSTART:20250309T100000
END:DAYLIGHT
BEGIN:STANDARD
TZOFFSETFROM:-0700
TZOFFSETTO:-0800
TZNAME:PST
DTSTART:20251102T090000
END:STANDARD
BEGIN:DAYLIGHT
TZOFFSETFROM:-0800
TZOFFSETTO:-0700
TZNAME:PDT
DTSTART:20260308T100000
END:DAYLIGHT
BEGIN:STANDARD
TZOFFSETFROM:-0700
TZOFFSETTO:-0800
TZNAME:PST
DTSTART:20261101T090000
END:STANDARD
BEGIN:DAYLIGHT
TZOFFSETFROM:-0800
TZOFFSETTO:-0700
TZNAME:PDT
DTSTART:20270314T100000
END:DAYLIGHT
BEGIN:STANDARD
TZOFFSETFROM:-0700
TZOFFSETTO:-0800
TZNAME:PST
DTSTART:20271107T090000
END:STANDARD
END:VTIMEZONE
BEGIN:VEVENT
DTSTART;TZID=America/Los_Angeles:20260327T170000
DTEND;TZID=America/Los_Angeles:20260327T210000
DTSTAMP:20260423T022741
CREATED:20260218T020056Z
LAST-MODIFIED:20260218T020056Z
UID:15179-1774630800-1774645200@events.keyt.com
SUMMARY:Wood-Fired Pizza Nights at Cambria Pines Lodge
DESCRIPTION:Join us every Friday for an unforgettable evening of fun\, food\, and festivities at the Pizza Nook at Cambria Pines Lodge! Our Wood-Fired Pizza Nights are the perfect way to kick off the weekend with friends and family. Every Friday starting March 20th\, from 5-9pm enjoy: \n\nDelicious wood-fired pizza\, fresh salads\, refreshing drinks\, local beer & wine\nLive music\nClassic yard games for all ages\n\nNo reservations needed — just come hungry and ready for a good time!
URL:https://events.keyt.com/event/wood-fired-pizza-nights-at-cambria-pines-lodge/2026-03-27/
LOCATION:Cambria Pines Lodge\, 2905 Burton Dr\, Cambria\, CA\, 93428\, United States
CATEGORIES:Food and Drink,Music
ATTACH;FMTTYPE=image/png:https://events.keyt.com/wp-content/uploads/2026/02/Pizza-Night-Rockbot-26.png
ORGANIZER;CN="Cambria Pines Lodge":MAILTO:concierge@cambriapineslodge.com
END:VEVENT
BEGIN:VEVENT
DTSTART;TZID=America/Los_Angeles:20260327T190000
DTEND;TZID=America/Los_Angeles:20260327T210000
DTSTAMP:20260423T022741
CREATED:20260121T010143Z
LAST-MODIFIED:20260121T010143Z
UID:14747-1774638000-1774645200@events.keyt.com
SUMMARY:Everclear
DESCRIPTION:Get ready to sing along to “Santa Monica\,” “Father of Mine\,” and “Wonderful” when 90s alternative rock legends Everclear take the stage at Solvang Festival Theater on March 27 at 7 PM! (Gates open at 6PM)\nDon’t miss this chance to experience the platinum-selling sound that defined a generation.\n𝐸𝑥𝑐𝑙𝑢𝑠𝑖𝑣𝑒 𝑀𝑒𝑒𝑡 & 𝐺𝑟𝑒𝑒𝑡 𝑃𝑎𝑐𝑘𝑎𝑔𝑒𝑠 𝐴𝑣𝑎𝑖𝑙𝑎𝑏𝑙𝑒!\nAdd a memorable VIP experience to your ticket and enjoy all of the following:\n• Exclusive Pre-Show Meet & Greet with Everclear\n• Personal Photograph with Everclear\n• Private & Intimate Acoustic Performance\n• Specially Designed Everclear Tour Shirt and Exclusive Everclear Gift\n• Collectible Everclear Poster Autographed by the Band\n• VIP Badge with Early Entry Access to the venue and to shop Everclear Merchandise\nLimited VIP Experience Passes are available\, and will sell out! \n𝑨𝑩𝑶𝑼𝑻 𝑻𝑯𝑬 𝑩𝑨𝑵𝑫:\nEverclear\, one of the leading alternative rock bands to emerge from the ‘90s\, celebrated their 30th Anniversary in recent years\, and founder\, vocalist and guitarist Art Alexakis has made it clear that he has no plans to slow down. Since forming in 1992\, Everclear has enjoyed a lengthy career by any measure\, spanning 11 studio releases\, including four that have been certified Gold or Platinum\, selling over 6 million records\, and achieving 12 Top 40 Hit Singles on Mainstream Rock\, Alternative\, and Adult Top 40 radio\, including “Santa Monica\,” “Father of Mine\,” “I Will Buy You A New Life\,” “Wonderful” and “Everything To Everyone\,” as well as numerous videos\, thousands of shows\, and various other accolades\, including a 1998 Grammy nomination.
URL:https://events.keyt.com/event/everclear/
LOCATION:Solvang Festival Theater\, 420 2nd Street\, Solvang\, 93464
CATEGORIES:Music
ATTACH;FMTTYPE=image/png:https://events.keyt.com/wp-content/uploads/2026/01/Everclear-3.27.26-IG-Post-SQ-1.png
ORGANIZER;CN="Solvang Theaterfest":MAILTO:info@solvangtheaterfest.org
END:VEVENT
END:VCALENDAR