BEGIN:VCALENDAR
VERSION:2.0
PRODID:-//KEYT Events - ECPv6.15.20//NONSGML v1.0//EN
CALSCALE:GREGORIAN
METHOD:PUBLISH
X-ORIGINAL-URL:https://events.keyt.com
X-WR-CALDESC:Events for KEYT Events
REFRESH-INTERVAL;VALUE=DURATION:PT1H
X-Robots-Tag:noindex
X-PUBLISHED-TTL:PT1H
BEGIN:VTIMEZONE
TZID:America/Los_Angeles
BEGIN:DAYLIGHT
TZOFFSETFROM:-0800
TZOFFSETTO:-0700
TZNAME:PDT
DTSTART:20250309T100000
END:DAYLIGHT
BEGIN:STANDARD
TZOFFSETFROM:-0700
TZOFFSETTO:-0800
TZNAME:PST
DTSTART:20251102T090000
END:STANDARD
BEGIN:DAYLIGHT
TZOFFSETFROM:-0800
TZOFFSETTO:-0700
TZNAME:PDT
DTSTART:20260308T100000
END:DAYLIGHT
BEGIN:STANDARD
TZOFFSETFROM:-0700
TZOFFSETTO:-0800
TZNAME:PST
DTSTART:20261101T090000
END:STANDARD
BEGIN:DAYLIGHT
TZOFFSETFROM:-0800
TZOFFSETTO:-0700
TZNAME:PDT
DTSTART:20270314T100000
END:DAYLIGHT
BEGIN:STANDARD
TZOFFSETFROM:-0700
TZOFFSETTO:-0800
TZNAME:PST
DTSTART:20271107T090000
END:STANDARD
END:VTIMEZONE
BEGIN:VEVENT
DTSTART;TZID=America/Los_Angeles:20260412T140000
DTEND;TZID=America/Los_Angeles:20260412T160000
DTSTAMP:20260423T052942
CREATED:20260306T183438Z
LAST-MODIFIED:20260306T183438Z
UID:15493-1776002400-1776009600@events.keyt.com
SUMMARY:Prime Time Band Spring Concert - Legendary Movie Music & More
DESCRIPTION:Travel with the Prime Time Band on a memorable musical journey as you relive the grandeur of epic movie themes from the ’60s and ’70s. Award winning scores from such films as Lawrence of Arabia and Romeo and Juliet will thrill you\, along with many other musical surprises from jazz and pop to classics. Dynamic director Dr. Paul Mori brings enthusiasm\, charisma and energy to the podium in this FREE concert. \nPrime Time Band is a vibrant group of more than seventy-five amateur musicians (ages 40-90+) with a mission to provide free concerts for the greater Santa Barbara community. \n*No reserved seating – Doors open at 1:30 pm*
URL:https://events.keyt.com/event/prime-time-band-spring-concert-legendary-movie-music-more/
LOCATION:Lobero Theatre\, 33 East Canon Perdido Street\, Santa Barbara\, CA\, 93101\, United States
CATEGORIES:Music
ATTACH;FMTTYPE=image/jpeg:https://events.keyt.com/wp-content/uploads/2026/03/PTB-Lobero-Concert-Promo-2026.jpg
ORGANIZER;CN="Prime Time Band":MAILTO:primetimeband@gmail.com
END:VEVENT
END:VCALENDAR