BEGIN:VCALENDAR
VERSION:2.0
PRODID:-//KEYT Events - ECPv6.15.20//NONSGML v1.0//EN
CALSCALE:GREGORIAN
METHOD:PUBLISH
X-ORIGINAL-URL:https://events.keyt.com
X-WR-CALDESC:Events for KEYT Events
REFRESH-INTERVAL;VALUE=DURATION:PT1H
X-Robots-Tag:noindex
X-PUBLISHED-TTL:PT1H
BEGIN:VTIMEZONE
TZID:America/Los_Angeles
BEGIN:DAYLIGHT
TZOFFSETFROM:-0800
TZOFFSETTO:-0700
TZNAME:PDT
DTSTART:20250309T100000
END:DAYLIGHT
BEGIN:STANDARD
TZOFFSETFROM:-0700
TZOFFSETTO:-0800
TZNAME:PST
DTSTART:20251102T090000
END:STANDARD
BEGIN:DAYLIGHT
TZOFFSETFROM:-0800
TZOFFSETTO:-0700
TZNAME:PDT
DTSTART:20260308T100000
END:DAYLIGHT
BEGIN:STANDARD
TZOFFSETFROM:-0700
TZOFFSETTO:-0800
TZNAME:PST
DTSTART:20261101T090000
END:STANDARD
BEGIN:DAYLIGHT
TZOFFSETFROM:-0800
TZOFFSETTO:-0700
TZNAME:PDT
DTSTART:20270314T100000
END:DAYLIGHT
BEGIN:STANDARD
TZOFFSETFROM:-0700
TZOFFSETTO:-0800
TZNAME:PST
DTSTART:20271107T090000
END:STANDARD
END:VTIMEZONE
BEGIN:VEVENT
DTSTART;TZID=America/Los_Angeles:20260502T180000
DTEND;TZID=America/Los_Angeles:20260502T210000
DTSTAMP:20260421T150319
CREATED:20260401T192311Z
LAST-MODIFIED:20260401T192320Z
UID:16243-1777744800-1777755600@events.keyt.com
SUMMARY:Gainey Vineyard's Concerts in the Vines presents "Flamenco In the Vines"
DESCRIPTION:Experience an unforgettable evening of fine wine and fiery flamenco beneath the full moon. Renowned guitarist Tony Ybarra\, accompanied by dynamic professional flamenco dancers\, brings vibrant Latin rhythms to life on the vineyard lawn at Gainey Estate Vineyard in Santa Ynez.
URL:https://events.keyt.com/event/gainey-vineyards-concerts-in-the-vines-presents-flamenco-in-the-vines/
LOCATION:Gainey Estate Vineyard\, 3950 Hwy 246\, Santa Ynez\, 93101
CATEGORIES:Music
ATTACH;FMTTYPE=image/jpeg:https://events.keyt.com/wp-content/uploads/2026/04/Rup9JsSnQEGfVFQ31lJb8g.large_.jpg
ORGANIZER;CN="Gainey Estate Vineyard":MAILTO:kyleen@gaineyvineyard.com
END:VEVENT
END:VCALENDAR