BEGIN:VCALENDAR
VERSION:2.0
PRODID:-//KEYT Events - ECPv6.15.20//NONSGML v1.0//EN
CALSCALE:GREGORIAN
METHOD:PUBLISH
X-ORIGINAL-URL:https://events.keyt.com
X-WR-CALDESC:Events for KEYT Events
REFRESH-INTERVAL;VALUE=DURATION:PT1H
X-Robots-Tag:noindex
X-PUBLISHED-TTL:PT1H
BEGIN:VTIMEZONE
TZID:America/Los_Angeles
BEGIN:DAYLIGHT
TZOFFSETFROM:-0800
TZOFFSETTO:-0700
TZNAME:PDT
DTSTART:20250309T100000
END:DAYLIGHT
BEGIN:STANDARD
TZOFFSETFROM:-0700
TZOFFSETTO:-0800
TZNAME:PST
DTSTART:20251102T090000
END:STANDARD
BEGIN:DAYLIGHT
TZOFFSETFROM:-0800
TZOFFSETTO:-0700
TZNAME:PDT
DTSTART:20260308T100000
END:DAYLIGHT
BEGIN:STANDARD
TZOFFSETFROM:-0700
TZOFFSETTO:-0800
TZNAME:PST
DTSTART:20261101T090000
END:STANDARD
BEGIN:DAYLIGHT
TZOFFSETFROM:-0800
TZOFFSETTO:-0700
TZNAME:PDT
DTSTART:20270314T100000
END:DAYLIGHT
BEGIN:STANDARD
TZOFFSETFROM:-0700
TZOFFSETTO:-0800
TZNAME:PST
DTSTART:20271107T090000
END:STANDARD
END:VTIMEZONE
BEGIN:VEVENT
DTSTART;TZID=America/Los_Angeles:20260508T170000
DTEND;TZID=America/Los_Angeles:20260508T210000
DTSTAMP:20260420T074422
CREATED:20260218T020059Z
LAST-MODIFIED:20260218T020059Z
UID:15185-1778259600-1778274000@events.keyt.com
SUMMARY:Wood-Fired Pizza Nights at Cambria Pines Lodge
DESCRIPTION:Join us every Friday for an unforgettable evening of fun\, food\, and festivities at the Pizza Nook at Cambria Pines Lodge! Our Wood-Fired Pizza Nights are the perfect way to kick off the weekend with friends and family. Every Friday starting March 20th\, from 5-9pm enjoy: \n\nDelicious wood-fired pizza\, fresh salads\, refreshing drinks\, local beer & wine\nLive music\nClassic yard games for all ages\n\nNo reservations needed — just come hungry and ready for a good time!
URL:https://events.keyt.com/event/wood-fired-pizza-nights-at-cambria-pines-lodge/2026-05-08/
LOCATION:Cambria Pines Lodge\, 2905 Burton Dr\, Cambria\, CA\, 93428\, United States
CATEGORIES:Food and Drink,Music
ATTACH;FMTTYPE=image/png:https://events.keyt.com/wp-content/uploads/2026/02/Pizza-Night-Rockbot-26.png
ORGANIZER;CN="Cambria Pines Lodge":MAILTO:concierge@cambriapineslodge.com
END:VEVENT
BEGIN:VEVENT
DTSTART;TZID=America/Los_Angeles:20260508T190000
DTEND;TZID=America/Los_Angeles:20260508T210000
DTSTAMP:20260420T074422
CREATED:20260415T201303Z
LAST-MODIFIED:20260415T201303Z
UID:16562-1778266800-1778274000@events.keyt.com
SUMMARY:Voices of the Valley
DESCRIPTION:We are honored to announce Voices of the Valley\, a one-night-only benefit concert supporting three cornerstone arts organizations that enrich the cultural life of our region!\nThe evening will feature an exceptional lineup of artists\, including:\n✨ P!NK\, the evening’s host\, with an exclusive intimate acoustic performance\n✨ Sky Lakota-Lynch\, Broadway star of The Outsiders\n✨ Emma Pittman\, Broadway star of The Outsiders\n✨ Willow Sage Hart\n✨ Student performers from Arts Outreach’s Summer Theater program\nWe look forward to gathering our community for this extraordinary evening in support of the arts!\n𝐴𝑏𝑜𝑢𝑡 𝑇ℎ𝑒 𝐵𝑒𝑛𝑒𝑓𝑖𝑐𝑖𝑎𝑟𝑖𝑒𝑠:\nArts Outreach provides arts education and creative access for students throughout the Santa Ynez Valley.\nSolvang Theaterfest sustains a historic open-air theater and presents professional and community performances that bring audiences together.\nElverhøj Museum of History and Art preserves the region’s rich cultural and artistic heritage through exhibitions and educational programs.
URL:https://events.keyt.com/event/voices-of-the-valley/
LOCATION:Solvang Festival Theater\, 420 2nd Street\, Solvang\, 93464
CATEGORIES:Music
ATTACH;FMTTYPE=image/jpeg:https://events.keyt.com/wp-content/uploads/2026/04/VOV_IG_Post_1080x1080_2.jpg
ORGANIZER;CN="Solvang Theaterfest":MAILTO:info@solvangtheaterfest.org
END:VEVENT
END:VCALENDAR