BEGIN:VCALENDAR
VERSION:2.0
PRODID:-//KEYT Events - ECPv6.15.20//NONSGML v1.0//EN
CALSCALE:GREGORIAN
METHOD:PUBLISH
X-WR-CALNAME:KEYT Events
X-ORIGINAL-URL:https://events.keyt.com
X-WR-CALDESC:Events for KEYT Events
REFRESH-INTERVAL;VALUE=DURATION:PT1H
X-Robots-Tag:noindex
X-PUBLISHED-TTL:PT1H
BEGIN:VTIMEZONE
TZID:America/Los_Angeles
BEGIN:DAYLIGHT
TZOFFSETFROM:-0800
TZOFFSETTO:-0700
TZNAME:PDT
DTSTART:20250309T100000
END:DAYLIGHT
BEGIN:STANDARD
TZOFFSETFROM:-0700
TZOFFSETTO:-0800
TZNAME:PST
DTSTART:20251102T090000
END:STANDARD
BEGIN:DAYLIGHT
TZOFFSETFROM:-0800
TZOFFSETTO:-0700
TZNAME:PDT
DTSTART:20260308T100000
END:DAYLIGHT
BEGIN:STANDARD
TZOFFSETFROM:-0700
TZOFFSETTO:-0800
TZNAME:PST
DTSTART:20261101T090000
END:STANDARD
BEGIN:DAYLIGHT
TZOFFSETFROM:-0800
TZOFFSETTO:-0700
TZNAME:PDT
DTSTART:20270314T100000
END:DAYLIGHT
BEGIN:STANDARD
TZOFFSETFROM:-0700
TZOFFSETTO:-0800
TZNAME:PST
DTSTART:20271107T090000
END:STANDARD
END:VTIMEZONE
BEGIN:VEVENT
DTSTART;TZID=America/Los_Angeles:20260918T170000
DTEND;TZID=America/Los_Angeles:20260918T200000
DTSTAMP:20260424T050111
CREATED:20260218T020015Z
LAST-MODIFIED:20260218T020015Z
UID:15164-1789750800-1789761600@events.keyt.com
SUMMARY:GALLERY ROW - 3rd FRIDAY ART WALK - LA CUMBRE PLAZA\, Santa Barbara
DESCRIPTION:Art comes alive at La Cumbre Plaza Gallery Row. Explore dynamic galleries showcasing bold\, modern\, and unforgettable works by Santa Barbara–based and regional artists. Open Tue–Sun\, 12–5 PM.\n✨ Join us for the La Cumbre Gallery Row Art Walk – 3rd Friday\, 5–8 PM. Enjoy art\, music\, and inspiration. Participating Galleries: La Cumbre Center for Creative Arts LCCCA): Elevate\, Fine Line and Illuminations Gallery; Voice Gallery; Museum of Tibetan Art & Culture\, Grace Fisher’s Inclusive Arts Clubhouse.
URL:https://events.keyt.com/event/gallery-row-3rd-friday-art-walk-la-cumbre-plaza-santa-barbara/2026-09-18/
LOCATION:LA CUMBRE PLAZA GALLERY ROW\, 121 S. Hope Avenue\, Santa Barbara\, CA\, 93105\, United States
CATEGORIES:Art and Exhibits,Community,Music
ATTACH;FMTTYPE=image/jpeg:https://events.keyt.com/wp-content/uploads/2026/02/KYET-Calendar-1600-Wx900H.jpg
END:VEVENT
BEGIN:VEVENT
DTSTART;TZID=America/Los_Angeles:20260918T170000
DTEND;TZID=America/Los_Angeles:20260918T210000
DTSTAMP:20260424T050111
CREATED:20260218T020113Z
LAST-MODIFIED:20260218T020113Z
UID:15225-1789750800-1789765200@events.keyt.com
SUMMARY:Wood-Fired Pizza Nights at Cambria Pines Lodge
DESCRIPTION:Join us every Friday for an unforgettable evening of fun\, food\, and festivities at the Pizza Nook at Cambria Pines Lodge! Our Wood-Fired Pizza Nights are the perfect way to kick off the weekend with friends and family. Every Friday starting March 20th\, from 5-9pm enjoy: \n\nDelicious wood-fired pizza\, fresh salads\, refreshing drinks\, local beer & wine\nLive music\nClassic yard games for all ages\n\nNo reservations needed — just come hungry and ready for a good time!
URL:https://events.keyt.com/event/wood-fired-pizza-nights-at-cambria-pines-lodge/2026-09-18/
LOCATION:Cambria Pines Lodge\, 2905 Burton Dr\, Cambria\, CA\, 93428\, United States
CATEGORIES:Food and Drink,Music
ATTACH;FMTTYPE=image/png:https://events.keyt.com/wp-content/uploads/2026/02/Pizza-Night-Rockbot-26.png
ORGANIZER;CN="Cambria Pines Lodge":MAILTO:concierge@cambriapineslodge.com
END:VEVENT
BEGIN:VEVENT
DTSTART;TZID=America/Los_Angeles:20260925T170000
DTEND;TZID=America/Los_Angeles:20260925T210000
DTSTAMP:20260424T050111
CREATED:20260218T020114Z
LAST-MODIFIED:20260218T020114Z
UID:15226-1790355600-1790370000@events.keyt.com
SUMMARY:Wood-Fired Pizza Nights at Cambria Pines Lodge
DESCRIPTION:Join us every Friday for an unforgettable evening of fun\, food\, and festivities at the Pizza Nook at Cambria Pines Lodge! Our Wood-Fired Pizza Nights are the perfect way to kick off the weekend with friends and family. Every Friday starting March 20th\, from 5-9pm enjoy: \n\nDelicious wood-fired pizza\, fresh salads\, refreshing drinks\, local beer & wine\nLive music\nClassic yard games for all ages\n\nNo reservations needed — just come hungry and ready for a good time!
URL:https://events.keyt.com/event/wood-fired-pizza-nights-at-cambria-pines-lodge/2026-09-25/
LOCATION:Cambria Pines Lodge\, 2905 Burton Dr\, Cambria\, CA\, 93428\, United States
CATEGORIES:Food and Drink,Music
ATTACH;FMTTYPE=image/png:https://events.keyt.com/wp-content/uploads/2026/02/Pizza-Night-Rockbot-26.png
ORGANIZER;CN="Cambria Pines Lodge":MAILTO:concierge@cambriapineslodge.com
END:VEVENT
END:VCALENDAR