BEGIN:VCALENDAR
VERSION:2.0
PRODID:-//KEYT Events - ECPv6.15.20//NONSGML v1.0//EN
CALSCALE:GREGORIAN
METHOD:PUBLISH
X-ORIGINAL-URL:https://events.keyt.com
X-WR-CALDESC:Events for KEYT Events
REFRESH-INTERVAL;VALUE=DURATION:PT1H
X-Robots-Tag:noindex
X-PUBLISHED-TTL:PT1H
BEGIN:VTIMEZONE
TZID:America/Los_Angeles
BEGIN:DAYLIGHT
TZOFFSETFROM:-0800
TZOFFSETTO:-0700
TZNAME:PDT
DTSTART:20220313T100000
END:DAYLIGHT
BEGIN:STANDARD
TZOFFSETFROM:-0700
TZOFFSETTO:-0800
TZNAME:PST
DTSTART:20221106T090000
END:STANDARD
BEGIN:DAYLIGHT
TZOFFSETFROM:-0800
TZOFFSETTO:-0700
TZNAME:PDT
DTSTART:20230312T100000
END:DAYLIGHT
BEGIN:STANDARD
TZOFFSETFROM:-0700
TZOFFSETTO:-0800
TZNAME:PST
DTSTART:20231105T090000
END:STANDARD
BEGIN:DAYLIGHT
TZOFFSETFROM:-0800
TZOFFSETTO:-0700
TZNAME:PDT
DTSTART:20240310T100000
END:DAYLIGHT
BEGIN:STANDARD
TZOFFSETFROM:-0700
TZOFFSETTO:-0800
TZNAME:PST
DTSTART:20241103T090000
END:STANDARD
BEGIN:DAYLIGHT
TZOFFSETFROM:-0800
TZOFFSETTO:-0700
TZNAME:PDT
DTSTART:20250309T100000
END:DAYLIGHT
BEGIN:STANDARD
TZOFFSETFROM:-0700
TZOFFSETTO:-0800
TZNAME:PST
DTSTART:20251102T090000
END:STANDARD
END:VTIMEZONE
BEGIN:VEVENT
DTSTART;TZID=America/Los_Angeles:20241130T130000
DTEND;TZID=America/Los_Angeles:20241130T150000
DTSTAMP:20260422T041908
CREATED:20241112T182513Z
LAST-MODIFIED:20241112T182513Z
UID:7745-1732971600-1732978800@events.keyt.com
SUMMARY:Cookies & Cocoa with Santa
DESCRIPTION:Join us for a magical holiday experience at Cambria Nursery\, the perfect way to get into the holiday spirit before heading to the Cambria Christmas Market! \nThis family-friendly event is a wonderful opportunity to enjoy festive activities and make cherished memories. Santa and Mrs. Claus will be at the Nursery to spread holiday cheer\, giving each guest the chance to decorate cookies\, sip warm cocoa\, and share their Christmas wishes in a relaxed setting. \nSkip the crowd at Santa’s House during the Cambria Christmas Market and enjoy your own time with him at Cookies and Cocoa—don’t forget your camera for a special photo! \nMrs. Claus will host a cozy story time\, adding to the warmth and joy of the day. This event offers the ideal start to your holiday season\, with sweet treats\, holiday activities\, and Christmas magic awaiting you and your family. \nEvery Saturday from Nov. 30 – Dec. 21. Only 36 spots available!
URL:https://events.keyt.com/event/cookies-cocoa-with-santa/2024-11-30/
LOCATION:Cambria Nursery and Florist\, 2801 Eton Road\, Cambria\, 93428
CATEGORIES:Community
ATTACH;FMTTYPE=image/jpeg:https://events.keyt.com/wp-content/uploads/2024/11/Cambria-Nursery-Website-Events-Page-Graphics_400x400-2.jpg
ORGANIZER;CN="Cambria Nursery and Florist":MAILTO:info@cambrianursery.com
END:VEVENT
BEGIN:VEVENT
DTSTART;TZID=America/Los_Angeles:20241124T110000
DTEND;TZID=America/Los_Angeles:20241124T130000
DTSTAMP:20260422T041908
CREATED:20241018T222725Z
LAST-MODIFIED:20241018T222725Z
UID:7363-1732446000-1732453200@events.keyt.com
SUMMARY:Ornament Decorating Workshop
DESCRIPTION:Join us for a festive Ornament Decorating Workshop\, where you’ll create unique\, handmade ornaments to add a personal touch to your holiday décor. With a variety of materials and designs to choose from\, this workshop is perfect for all ages and skill levels.🎄 Whether you’re crafting for your tree or a gift\, you’ll leave with a beautiful keepsake and joyful memories!
URL:https://events.keyt.com/event/ornament-decorating-workshop/
LOCATION:Cambria Nursery and Florist\, 2801 Eton Road\, Cambria\, 93428
ATTACH;FMTTYPE=image/jpeg:https://events.keyt.com/wp-content/uploads/2024/10/tree-with-snow-768x1024-1.jpg
ORGANIZER;CN="Cambria Nursery and Florist":MAILTO:info@cambrianursery.com
END:VEVENT
BEGIN:VEVENT
DTSTART;TZID=America/Los_Angeles:20241123T110000
DTEND;TZID=America/Los_Angeles:20241123T130000
DTSTAMP:20260422T041908
CREATED:20241018T174932Z
LAST-MODIFIED:20241018T174932Z
UID:7358-1732359600-1732366800@events.keyt.com
SUMMARY:Succulent Christmas Tree Workshop
DESCRIPTION:Get in the holiday spirit and create your own succulent Christmas tree! 🎄 After the holidays\, you’re able to reuse the succulents and add them to your plant collection!🌿 \nCost: $80\, includes ALL materials to create your masterpiece \nOnly 10 spots available\, sign up today.
URL:https://events.keyt.com/event/succulent-christmas-tree-workshop/
LOCATION:Cambria Nursery and Florist\, 2801 Eton Road\, Cambria\, 93428
CATEGORIES:Art and Exhibits,Community
ATTACH;FMTTYPE=image/jpeg:https://events.keyt.com/wp-content/uploads/2024/10/CNF-Web-Graphics_400x400px.jpg
ORGANIZER;CN="Cambria Nursery and Florist":MAILTO:info@cambrianursery.com
END:VEVENT
BEGIN:VEVENT
DTSTART;TZID=America/Los_Angeles:20241012T140000
DTEND;TZID=America/Los_Angeles:20241012T153000
DTSTAMP:20260422T041908
CREATED:20240913T164816Z
LAST-MODIFIED:20240913T164816Z
UID:6776-1728741600-1728747000@events.keyt.com
SUMMARY:Succulent Pumpkin Workshop
DESCRIPTION:Embrace the arrival of fall with our beloved Succulent Pumpkin Workshop! 🍂 Join us for a delightful morning at the Nursery\, where you can tap into your creativity to design the perfect centerpiece for your autumn celebrations. The workshop fee covers one pumpkin\, along with a wide selection of succulents and moss for you to craft your unique creation.\n\n\nSpace is limited\, sign up before it’s too late! 
URL:https://events.keyt.com/event/succulent-pumpkin-workshop/
LOCATION:Cambria Nursery and Florist\, 2801 Eton Road\, Cambria\, 93428
CATEGORIES:Art and Exhibits,Community
ATTACH;FMTTYPE=image/jpeg:https://events.keyt.com/wp-content/uploads/2024/09/IMG_9776-1-scaled.jpg
ORGANIZER;CN="Cambria Nursery and Florist":MAILTO:info@cambrianursery.com
END:VEVENT
BEGIN:VEVENT
DTSTART;VALUE=DATE:20240830
DTEND;VALUE=DATE:20240903
DTSTAMP:20260422T041908
CREATED:20240830T175314Z
LAST-MODIFIED:20240830T175314Z
UID:6358-1724976000-1725321599@events.keyt.com
SUMMARY:Labor Day Sale at Cambria Nursery
DESCRIPTION:Celebrate the long weekend with incredible deals at Cambria Nursery! This Labor Day\, we’re offering special discounts to help you spruce up your garden and home. \nExclusive Offers: \n\nSpend $35 or more and receive a FREE 8qt bag of soil to nourish your plants!\n40% off all fruit trees—perfect for adding delicious\, homegrown fruit to your garden.
URL:https://events.keyt.com/event/labor-day-sale-at-cambria-nursery/
LOCATION:Cambria Nursery and Florist\, 2801 Eton Road\, Cambria\, 93428
ATTACH;FMTTYPE=image/jpeg:https://events.keyt.com/wp-content/uploads/2024/08/IMG_9113-2-scaled.jpg
ORGANIZER;CN="Cambria Nursery and Florist":MAILTO:info@cambrianursery.com
END:VEVENT
BEGIN:VEVENT
DTSTART;TZID=America/Los_Angeles:20240824T100000
DTEND;TZID=America/Los_Angeles:20240824T120000
DTSTAMP:20260422T041908
CREATED:20240830T175529Z
LAST-MODIFIED:20240830T175529Z
UID:6312-1724493600-1724500800@events.keyt.com
SUMMARY:Succulent Birdhouse Workshop
DESCRIPTION:Get hands-on and craft your very own charming birdhouse\, designed to enchant and welcome feathered friends into your garden. With a variety of materials\, paints\, and decorative elements\, let your imagination take flight as you personalize your birdhouse\, making it a unique reflection of your style.\n\nThis isn’t your traditional birdhouse. You will have the opportunity to add a variety of flowers\, moss\, succulents and more! The birdhouse is designed to make a statement in your yard for years to come.
URL:https://events.keyt.com/event/succulent-birdhouse-workshop/
LOCATION:Cambria Nursery and Florist\, 2801 Eton Road\, Cambria\, 93428
ATTACH;FMTTYPE=image/png:https://events.keyt.com/wp-content/uploads/2024/08/image.png
ORGANIZER;CN="Cambria Nursery and Florist":MAILTO:info@cambrianursery.com
END:VEVENT
BEGIN:VEVENT
DTSTART;TZID=America/Los_Angeles:20230819T100000
DTEND;TZID=America/Los_Angeles:20230819T120000
DTSTAMP:20260422T041908
CREATED:20230823T175427Z
LAST-MODIFIED:20230823T175427Z
UID:3782-1692439200-1692446400@events.keyt.com
SUMMARY:Birdhouse Workshop at Cambria Nursery
DESCRIPTION:Join us for a whimsical and creative experience that brings the beauty of nature to your backyard! This workshop includes all materials needed and is led by Shana\, the Nursery’s skilled garden artisan. This isn’t your traditional birdhouse. With a tall stature and a variety of garden elements\, the birdhouse is designed to make a statement in your yard for years to come. To ensure a personalized experience\, we have limited spots available.
URL:https://events.keyt.com/event/birdhouse-workshop-at-cambria-nursery/
LOCATION:Cambria Nursery and Florist\, 2801 Eton Road\, Cambria\, 93428
CATEGORIES:Other
ATTACH;FMTTYPE=image/jpeg:https://events.keyt.com/wp-content/uploads/2023/08/CNF-Web-Graphics-4.jpg
ORGANIZER;CN="Cambria Nursery and Florist":MAILTO:info@cambrianursery.com
END:VEVENT
BEGIN:VEVENT
DTSTART;TZID=America/Los_Angeles:20230421T090000
DTEND;TZID=America/Los_Angeles:20230423T170000
DTSTAMP:20260422T041908
CREATED:20230622T175346Z
LAST-MODIFIED:20230622T175346Z
UID:2961-1682067600-1682269200@events.keyt.com
SUMMARY:Earth Day Festival at Cambria Nursery
DESCRIPTION:We’re bringing together the community to celebrate our planet with a variety of fun\, educational activities!\nShop for spring plants and gifts\, attend our informative garden workshops\, watch live demonstrations by local artisans\, enjoy the sounds of live music while exploring the beautiful nursery grounds and more. Join us for a FREE BBQ lunch from 12-1pm every day! \nPlease visit our website to learn more about fun Earth Day workshops\, gardening sales and more.
URL:https://events.keyt.com/event/earth-day-festival-at-cambria-nursery/
LOCATION:Cambria Nursery and Florist\, 2801 Eton Road\, Cambria\, 93428
CATEGORIES:Community,Education,Fairs and Festivals
ATTACH;FMTTYPE=image/jpeg:https://events.keyt.com/wp-content/uploads/2023/04/CNF-Earth-Day-Festival-Web-Header-23-500-×-500-px.jpg
ORGANIZER;CN="Cambria Nursery and Florist":MAILTO:info@cambrianursery.com
END:VEVENT
BEGIN:VEVENT
DTSTART;TZID=America/Los_Angeles:20230317T090000
DTEND;TZID=America/Los_Angeles:20230319T170000
DTSTAMP:20260422T041908
CREATED:20230622T193002Z
LAST-MODIFIED:20230622T193002Z
UID:2507-1679043600-1679245200@events.keyt.com
SUMMARY:Spring Bloom Festival
DESCRIPTION:We hope you can join us for our Spring Bloom Festival\, where we celebrate the arrival of warmer weather and the beauty of the great outdoors!   Enjoy a free BBQ lunch with us from 12-1pm each day of the event.\n\nWe’re celebrating the arrival of spring with gardening sales\, free demonstrations\, and fun hands-on workshops all weekend long!  View the full lineup and see all of the great businesses we are partnering with: https://bit.ly/3EjIEby\n\n**It is free to attend this event and enjoy the gardening sales and demonstrations. There is a class fee for the hands-on workshops.
URL:https://events.keyt.com/event/spring-bloom-festival/2023-03-17/
LOCATION:Cambria Nursery and Florist\, 2801 Eton Road\, Cambria\, 93428
CATEGORIES:Art and Exhibits,Community,Fairs and Festivals
ATTACH;FMTTYPE=image/jpeg:https://events.keyt.com/wp-content/uploads/2023/02/CNF_garden-2.jpg
ORGANIZER;CN="Cambria Nursery and Florist":MAILTO:info@cambrianursery.com
END:VEVENT
END:VCALENDAR