BEGIN:VCALENDAR
VERSION:2.0
PRODID:-//KEYT Events - ECPv6.15.20//NONSGML v1.0//EN
CALSCALE:GREGORIAN
METHOD:PUBLISH
X-ORIGINAL-URL:https://events.keyt.com
X-WR-CALDESC:Events for KEYT Events
REFRESH-INTERVAL;VALUE=DURATION:PT1H
X-Robots-Tag:noindex
X-PUBLISHED-TTL:PT1H
BEGIN:VTIMEZONE
TZID:America/Los_Angeles
BEGIN:DAYLIGHT
TZOFFSETFROM:-0800
TZOFFSETTO:-0700
TZNAME:PDT
DTSTART:20210314T100000
END:DAYLIGHT
BEGIN:STANDARD
TZOFFSETFROM:-0700
TZOFFSETTO:-0800
TZNAME:PST
DTSTART:20211107T090000
END:STANDARD
BEGIN:DAYLIGHT
TZOFFSETFROM:-0800
TZOFFSETTO:-0700
TZNAME:PDT
DTSTART:20220313T100000
END:DAYLIGHT
BEGIN:STANDARD
TZOFFSETFROM:-0700
TZOFFSETTO:-0800
TZNAME:PST
DTSTART:20221106T090000
END:STANDARD
BEGIN:DAYLIGHT
TZOFFSETFROM:-0800
TZOFFSETTO:-0700
TZNAME:PDT
DTSTART:20230312T100000
END:DAYLIGHT
BEGIN:STANDARD
TZOFFSETFROM:-0700
TZOFFSETTO:-0800
TZNAME:PST
DTSTART:20231105T090000
END:STANDARD
END:VTIMEZONE
BEGIN:VEVENT
DTSTART;TZID=America/Los_Angeles:20221216T190000
DTEND;TZID=America/Los_Angeles:20221216T223000
DTSTAMP:20260420T020525
CREATED:20230622T192420Z
LAST-MODIFIED:20230622T192420Z
UID:1827-1671217200-1671229800@events.keyt.com
SUMMARY:JD McPherson - Socks: A Rock N' Roll Christmas Tour W/ Support by Rainy Eyes
DESCRIPTION:Presented by SLO Brew Live + (((folkYEAH!))) \nAcclaimed singer\, songwriter and musician JD McPherson will embark on his third-annual “SOCKS: A Rock n’ Roll Christmas Tour” this December with newly confirmed stops at Chicago’s Thalia Hall and Nashville’s Basement East among several others.  These performances celebrate McPherson’s breakthrough debut Christmas album\, SOCKS\, which was released in 2018 onNew West Records.  The album features 11 all-original Christmas songs\, the album has been the best-reviewed holiday record receiving overwhelming critical praise.
URL:https://events.keyt.com/event/jd-mcpherson-socks-a-rock-n-roll-christmas-tour-w-support-by-rainy-eyes/
LOCATION:SLO Brew Rock\, 855 Aerovista Place\, San Luis Obispo\, CA\, 93401\, United States
CATEGORIES:Music
ATTACH;FMTTYPE=image/png:https://events.keyt.com/wp-content/uploads/2022/11/79_Edp.png
ORGANIZER;CN="SLO Brew Live":MAILTO:musicasst@slobrew.com
END:VEVENT
BEGIN:VEVENT
DTSTART;TZID=America/Los_Angeles:20221214T190000
DTEND;TZID=America/Los_Angeles:20221214T223000
DTSTAMP:20260420T020525
CREATED:20230622T192420Z
LAST-MODIFIED:20230622T192420Z
UID:1825-1671044400-1671057000@events.keyt.com
SUMMARY:!!! (Chk Chk Chk) W/ Tolliver: Presented by SLO Brew Live + (((folkYEAH!)))
DESCRIPTION:Combining punk abandon and tightly-coiled dance music has always been bonded into the band’s DNA. It’s this core plus their growth and mastery of songwriting that has seen them outlive the mid-2000s ‘indie/dance punk’ tag and has allowed them to consistently grow lyrically and sonically from album to album. As If is their most transcendent collection of songs yet. “Each album we’ve made has gotten closer and closer to our live set and this\, we’re proud to say\, is the closest we’ve come yet. We were heavily influenced by current dance music — Nina Kraviz\, Moodymann\, Paranoid London\, Rrose and Delroy Edwards were frequently referenced — and philosophically by the early ’90s house records we love on labels like Trax and Dancemania and by artists like Romanthony and Green Velvet. Those records sound great because they’re fairly raw attempts to use the technology of the time to ape the New York and Philly disco records that those producers loved. We figured\, if those old house records sound like they do because the artists manipulated disco samples with MPCs\, why couldn’t we just sample ourselves and manipulate the tracks with Ableton Live? The more raw it came out the better it felt\, not only because that’s what excited us about those old records\, but because it felt more punk\, which always feels good.”
URL:https://events.keyt.com/event/chk-chk-chk-w-tolliver-presented-by-slo-brew-live-folkyeah/
LOCATION:SLO Brew Rock\, 855 Aerovista Place\, San Luis Obispo\, CA\, 93401\, United States
CATEGORIES:Music
ATTACH;FMTTYPE=image/png:https://events.keyt.com/wp-content/uploads/2022/11/unnamed-file.png
ORGANIZER;CN="SLO Brew Live":MAILTO:musicasst@slobrew.com
END:VEVENT
BEGIN:VEVENT
DTSTART;TZID=America/Los_Angeles:20221203T213000
DTEND;TZID=America/Los_Angeles:20221204T235900
DTSTAMP:20260420T020525
CREATED:20221108T045555Z
LAST-MODIFIED:20221129T215129Z
UID:1676-1670103000-1670198340@events.keyt.com
SUMMARY:The Mother Hips :: Pappy + Harriet's Pioneertown :: `12/03/22
DESCRIPTION:(((folkYEAH!))) presents\n\n\nAn Evening With\nTHE MOTHER HIPS\nPappy + Harriet’s \nPioneertown \nIndoor Show! \nDecember 3\, 2022 \nDoors 8:30pm / Show 9:30pm \n$30 Advance / $35 Day of Show \nAll Ages \nAll Ticket Sales Final. No Third Party Tickets Accepted.
URL:https://events.keyt.com/event/the-mother-hips-pappy-harriets-pioneertown-12-03-22/
LOCATION:Pappy & Harriet’s\, 53688 Pioneertown Road\, Pioneertown\, CA\, 92268\, United States
END:VEVENT
BEGIN:VEVENT
DTSTART;TZID=America/Los_Angeles:20221202T200000
DTEND;TZID=America/Los_Angeles:20221202T230000
DTSTAMP:20260420T020525
CREATED:20221108T045555Z
LAST-MODIFIED:20221129T215128Z
UID:1675-1670011200-1670022000@events.keyt.com
SUMMARY:Built to Spill :: Rio Theatre Santa Cruz 12/2/22
DESCRIPTION:(((folkYEAH!))) Presents\n\n\nBUILT TO SPILL\nFriday\, December 2\, 2022 \nDoors 7 / Show 8 \nRio Theatre \nSanta Cruz \n$35 / $40 + SC Admission Tax \nAll ticket sales are final. No third party tickets accepted.
URL:https://events.keyt.com/event/built-to-spill-rio-theatre-santa-cruz-12-2-22/
LOCATION:Rio Theatre\, 1205 Soquel Avenue\, Santa Cruz\, CA\, 95062\, United States
END:VEVENT
BEGIN:VEVENT
DTSTART;TZID=America/Los_Angeles:20221125T213000
DTEND;TZID=America/Los_Angeles:20221126T003000
DTSTAMP:20260420T020525
CREATED:20221108T045555Z
LAST-MODIFIED:20221122T214027Z
UID:1673-1669411800-1669422600@events.keyt.com
SUMMARY:Bill Callahan :: Pappy + Harriets Pioneertown:: November 25\, 2022
DESCRIPTION:(((folkYEAH!))) Presents\n\n\nBILL CALLAHAN\nplus:: Jerry David DeCicca\nPappy + Harriet’s \nPioneertown \nIndoor Show \nNovember 25\, 2022 \nDoors 8pm / Show 9pm \nTickets: $45 \nAll sales final.
URL:https://events.keyt.com/event/bill-callahan-pappy-harriets-pioneertown-november-25-2022/
LOCATION:Pappy & Harriet’s\, 53688 Pioneertown Road\, Pioneertown\, CA\, 92268\, United States
END:VEVENT
BEGIN:VEVENT
DTSTART;TZID=America/Los_Angeles:20221122T200000
DTEND;TZID=America/Los_Angeles:20221122T230000
DTSTAMP:20260420T020525
CREATED:20221108T045555Z
LAST-MODIFIED:20221122T214026Z
UID:1672-1669147200-1669158000@events.keyt.com
SUMMARY:Bill Callahan :: Ojai Deer Lodge :: Ojai 11/22
DESCRIPTION:(((folkYEAH!))) & Tierra Sol present\n\n\nBILL CALLAHAN\nOjai Deer Lodge \nOjai\, CA \nNovember 22\,  2022 \nTickets: $40 \nAll Ages
URL:https://events.keyt.com/event/bill-callahan-ojai-deer-lodge-ojai-11-22/
LOCATION:Ojai Deer Lodge\, 2261 Maricopa Hwy\, Ojai\, CA\, 93023\, United States
END:VEVENT
BEGIN:VEVENT
DTSTART;TZID=America/Los_Angeles:20221121T200000
DTEND;TZID=America/Los_Angeles:20221121T230000
DTSTAMP:20260420T020525
CREATED:20221108T045555Z
LAST-MODIFIED:20221115T214005Z
UID:1670-1669060800-1669071600@events.keyt.com
SUMMARY:Bill Callahan :: Santa Cruz :: Tickets available at moesalley.com
DESCRIPTION:(((folkYEAH!)))\n\n\nMoved to down the street to Moe’s Alley\nTickets available here\nBILL CALLAHAN\nplus:: Jerry David DeCicca\nNovember 21\, 2022 \nDoors 7p / Show 8p \nMoe’s Alley \nSanta Cruz \nTickets are $32 / $36 + Santa Cruz Admissions Fee \n21+  \nAll Ticket Sales Final.
URL:https://events.keyt.com/event/bill-callahan-moes-alley-santa-cruz-11-21/
LOCATION:Moe’s Alley\, 1535 Commercial Way\, Santa Cruz\, CA\, 95065\, United States
END:VEVENT
BEGIN:VEVENT
DTSTART;TZID=America/Los_Angeles:20221120T200000
DTEND;TZID=America/Los_Angeles:20221120T230000
DTSTAMP:20260420T020525
CREATED:20221108T045555Z
LAST-MODIFIED:20221115T214005Z
UID:1669-1668974400-1668985200@events.keyt.com
SUMMARY:Bill Callahan ::: Palace of Fine Arts :: November 20\, 2022
DESCRIPTION:(((folkYEAH!))) Presents\n\n\nBILL CALLAHAN\nplus:: Jerry David DeCicca\nPalace of Fine Arts \nSan Francisco \nSunday\, November 20\, 2022 \nDoors 7pm / Show 8pm  \nALL AGES! \nTickets: $45 \nThis is a seated (general admission) show \nAll sales final. No third party tickets accpeted.
URL:https://events.keyt.com/event/bill-callahan-palace-of-fine-arts-november-20-2022/
LOCATION:Palace of Fine Arts\, 3301 Lyon Street\, San Francisco\, CA\, 94123\, United States
END:VEVENT
BEGIN:VEVENT
DTSTART;TZID=America/Los_Angeles:20221118T210000
DTEND;TZID=America/Los_Angeles:20221118T233000
DTSTAMP:20260420T020525
CREATED:20221108T045555Z
LAST-MODIFIED:20221115T214005Z
UID:1667-1668805200-1668814200@events.keyt.com
SUMMARY:Os Mutantes :: Pappy + Harriet's Pioneertown 11/18
DESCRIPTION:(((folkYEAH!))) Presents\n\n\nOS MUTANTES\nClaude Fontaine\nPappy + Harriet’s \nPioneertown\, CA \nNovember 18\, 2022 \nDoors 8pm / Show 9pm \nIndoor Show \nALL AGES \nAll Sales Final.
URL:https://events.keyt.com/event/os-mutantes-pappy-harriets-pioneertown-11-18/
LOCATION:Pappy & Harriet’s\, 53688 Pioneertown Rd\, Pioneertown\, CA\, 92268\, United States
END:VEVENT
BEGIN:VEVENT
DTSTART;TZID=America/Los_Angeles:20221115T200000
DTEND;TZID=America/Los_Angeles:20221115T233000
DTSTAMP:20260420T020525
CREATED:20221108T045555Z
LAST-MODIFIED:20221115T214005Z
UID:1666-1668542400-1668555000@events.keyt.com
SUMMARY:La Luz :: Pappy + Harriet's Pioneertown 11/15
DESCRIPTION:(((folkYEAH!))) Presents\n\n\nLA LUZ\nNaked Giants\nPappy + Harriet’s \nPioneertown \n November 15\, 2022 \nDoors 7pm / Show 8pm \nALL AGES! \nIndoor Show! \nAll Sales Final
URL:https://events.keyt.com/event/la-luz-pappy-harriets-pioneertown-11-15/
LOCATION:Pappy & Harriet’s\, 53688 Pioneertown Rd\, Pioneertown\, CA\, 92268\, United States
END:VEVENT
BEGIN:VEVENT
DTSTART;TZID=America/Los_Angeles:20221113T203000
DTEND;TZID=America/Los_Angeles:20221113T233000
DTSTAMP:20260420T020525
CREATED:20221108T045555Z
LAST-MODIFIED:20221108T045555Z
UID:1664-1668371400-1668382200@events.keyt.com
SUMMARY:La Luz 11/13:: Tickets Available @ moesalley.com
DESCRIPTION:(((folkYEAH!))) Presents\n\n\nTICKETS NOT SOLD HERE \nPURCHASE TICKETS HERE\nLA LUZ\nNaked Giants\nMoe’s Alley \nSanta Cruz \nNovember 13\, 2022 \nDoors 8pm / Show 8:30pm  \n21+ \nTickets are $28 / $32+ Santa Cruz Admissions Fee
URL:https://events.keyt.com/event/la-luz-11-13-tickets-available-moesalley-com/
LOCATION:Moe’s Alley\, 1535 Commercial Way\, Santa Cruz\, CA\, 95065\, United States
END:VEVENT
BEGIN:VEVENT
DTSTART;TZID=America/Los_Angeles:20221111T210000
DTEND;TZID=America/Los_Angeles:20221111T233000
DTSTAMP:20260420T020525
CREATED:20221108T045555Z
LAST-MODIFIED:20221108T045555Z
UID:1662-1668200400-1668209400@events.keyt.com
SUMMARY:The Joy Formidable :: Pappy + Harriets Pioneertown:: Nov 11\, 2022
DESCRIPTION:(((folkYEAH!))) Presents\n\n\n(((folkYEAH!))) presents \nThe Joy Formidable\nCuffed Up\nPappy + Harriet’s \nPioneertown \nIndoor Show \nNovember 11\, 2022 \nDoors 8pm / Show 9pm \n$25 Advance / $28 Day of Show \nAll Sales Final.
URL:https://events.keyt.com/event/the-joy-formidable-pappy-harriets-pioneertown-nov-11-2022/
LOCATION:Pappy & Harriet’s\, 53688 Pioneertown Road\, Pioneertown\, CA\, 92268\, United States
END:VEVENT
BEGIN:VEVENT
DTSTART;TZID=America/Los_Angeles:20221110T200000
DTEND;TZID=America/Los_Angeles:20221110T233000
DTSTAMP:20260420T020525
CREATED:20221108T045554Z
LAST-MODIFIED:20221108T045554Z
UID:1660-1668110400-1668123000@events.keyt.com
SUMMARY:The Dip :: SOhO Restaurant and Music Club Santa Barbara 11/10
DESCRIPTION:(((folkYEAH!))) Presents\n\n\nTHE DIP\nCassowary\nSOhO Restaurant & Music Club \nSanta Barbara \nThursday\, November 10\, 2022 \nDoors 7 / Show 8pm \n21+ \nFor dinner reservations at SOhO Restaurant call 805-762-7776 ext 6
URL:https://events.keyt.com/event/the-dip-soho-restaurant-and-music-club-santa-barbara-11-10/
LOCATION:SOhO Restaurant & Music Club\, 1221 State Street\, #205\, Santa Barbara\, CA\, 93101\, United States
END:VEVENT
END:VCALENDAR