BEGIN:VCALENDAR
VERSION:2.0
PRODID:-//KEYT Events - ECPv6.15.20//NONSGML v1.0//EN
CALSCALE:GREGORIAN
METHOD:PUBLISH
X-WR-CALNAME:KEYT Events
X-ORIGINAL-URL:https://events.keyt.com
X-WR-CALDESC:Events for KEYT Events
REFRESH-INTERVAL;VALUE=DURATION:PT1H
X-Robots-Tag:noindex
X-PUBLISHED-TTL:PT1H
BEGIN:VTIMEZONE
TZID:America/Los_Angeles
BEGIN:DAYLIGHT
TZOFFSETFROM:-0800
TZOFFSETTO:-0700
TZNAME:PDT
DTSTART:20250309T100000
END:DAYLIGHT
BEGIN:STANDARD
TZOFFSETFROM:-0700
TZOFFSETTO:-0800
TZNAME:PST
DTSTART:20251102T090000
END:STANDARD
BEGIN:DAYLIGHT
TZOFFSETFROM:-0800
TZOFFSETTO:-0700
TZNAME:PDT
DTSTART:20260308T100000
END:DAYLIGHT
BEGIN:STANDARD
TZOFFSETFROM:-0700
TZOFFSETTO:-0800
TZNAME:PST
DTSTART:20261101T090000
END:STANDARD
BEGIN:DAYLIGHT
TZOFFSETFROM:-0800
TZOFFSETTO:-0700
TZNAME:PDT
DTSTART:20270314T100000
END:DAYLIGHT
BEGIN:STANDARD
TZOFFSETFROM:-0700
TZOFFSETTO:-0800
TZNAME:PST
DTSTART:20271107T090000
END:STANDARD
END:VTIMEZONE
BEGIN:VEVENT
DTSTART;TZID=America/Los_Angeles:20260213T200000
DTEND;TZID=America/Los_Angeles:20260213T233000
DTSTAMP:20260421T013109
CREATED:20251220T184254Z
LAST-MODIFIED:20260207T192739Z
UID:14366-1771012800-1771025400@events.keyt.com
SUMMARY:BUÑUEL :: 2220 Arts + Archives :: Los Angeles 2/13
DESCRIPTION:BUÑUEL bring their incredible show to 2220 Arts.\n\n\n(((folkYEAH!))) presents \nBUÑUEL\nFebruary 13\, 2026 \n2220 Arts + Archives \nLos Angeles\, CA \nDoors 7pm / Show 8pm \n21+
URL:https://events.keyt.com/event/bunuel-2220-arts-archives-los-angeles-2-13/
LOCATION:2220 Arts + Archives\, 2220 Beverly Blvd\, Los Angeles\, CA\, 90057\, United States
ATTACH;FMTTYPE=image/jpeg:https://events.keyt.com/wp-content/uploads/2025/12/0c53eb6f637826db28f51b85f705832c-UjsqH1.tmp_.jpg
END:VEVENT
BEGIN:VEVENT
DTSTART;TZID=America/Los_Angeles:20260114T200000
DTEND;TZID=America/Los_Angeles:20260114T233000
DTSTAMP:20260421T013109
CREATED:20251115T181150Z
LAST-MODIFIED:20260103T184257Z
UID:13812-1768420800-1768433400@events.keyt.com
SUMMARY:Ryley Walker + Papa M :: 2220 Arts + Archives :: Los Angeles 1/14
DESCRIPTION:Ryley Walker and Papa M bring their incredible show to 2220 Arts.\n\n\n(((folkYEAH!))) presents \nRYLEY WALKER and PAPA M\nJanuary 14\, 2026 \n2220 Arts + Archives \nLos Angeles\, CA \nDoors 7:30pm / Show 8pm \n21+
URL:https://events.keyt.com/event/ryley-walker-papa-m-2220-arts-archives-los-angeles-1-14/
LOCATION:2220 Arts + Archives\, 2220 Beverly Blvd\, Los Angeles\, CA\, 90057\, United States
ATTACH;FMTTYPE=image/png:https://events.keyt.com/wp-content/uploads/2025/11/6ca829fbfc16f76339cdd7c130e46dbf-9S4aII.tmp_.png
END:VEVENT
END:VCALENDAR