BEGIN:VCALENDAR
VERSION:2.0
PRODID:-//KEYT Events - ECPv6.15.20//NONSGML v1.0//EN
CALSCALE:GREGORIAN
METHOD:PUBLISH
X-ORIGINAL-URL:https://events.keyt.com
X-WR-CALDESC:Events for KEYT Events
REFRESH-INTERVAL;VALUE=DURATION:PT1H
X-Robots-Tag:noindex
X-PUBLISHED-TTL:PT1H
BEGIN:VTIMEZONE
TZID:America/Los_Angeles
BEGIN:DAYLIGHT
TZOFFSETFROM:-0800
TZOFFSETTO:-0700
TZNAME:PDT
DTSTART:20250309T100000
END:DAYLIGHT
BEGIN:STANDARD
TZOFFSETFROM:-0700
TZOFFSETTO:-0800
TZNAME:PST
DTSTART:20251102T090000
END:STANDARD
BEGIN:DAYLIGHT
TZOFFSETFROM:-0800
TZOFFSETTO:-0700
TZNAME:PDT
DTSTART:20260308T100000
END:DAYLIGHT
BEGIN:STANDARD
TZOFFSETFROM:-0700
TZOFFSETTO:-0800
TZNAME:PST
DTSTART:20261101T090000
END:STANDARD
BEGIN:DAYLIGHT
TZOFFSETFROM:-0800
TZOFFSETTO:-0700
TZNAME:PDT
DTSTART:20270314T100000
END:DAYLIGHT
BEGIN:STANDARD
TZOFFSETFROM:-0700
TZOFFSETTO:-0800
TZNAME:PST
DTSTART:20271107T090000
END:STANDARD
END:VTIMEZONE
BEGIN:VEVENT
DTSTART;TZID=America/Los_Angeles:20260228T090000
DTEND;TZID=America/Los_Angeles:20260228T110000
DTSTAMP:20260421T073652
CREATED:20260218T012044Z
LAST-MODIFIED:20260218T012044Z
UID:14990-1772269200-1772276400@events.keyt.com
SUMMARY:SEEAG’s Free “Farm Day Every Day” At Brokaw Nursery in Ventura
DESCRIPTION:Students for Eco-Education and Agriculture (SEEAG) is hosting a free “Farm Day Every Day” tour at Brokaw Nursery in Ventura\, Saturday\, February 28\, from 9:00 a.m. to 11:00 a.m. \nVisitors will tour the nursery to get a behind-the-scenes look at how plants are grown and cared for. Brokaw Nursery produces over 300\,000 plants\, including avocados and fruit varieties\, and exports them to farmers and landscapers locally and worldwide. Family-owned and in business for 60 years\, Brokaw Nursery will share its expertise in avocado plants and nursery production. \nFarm Day Every Day tours are free to attend\, but space is limited and registration is required. Ticket registration is on Friday\, February 20 at 10:00 a.m. \nTo learn more about the tour and future Farm Day Every Day events\, go to https://www.seeag.org/farm-day-every-day.
URL:https://events.keyt.com/event/seeags-free-farm-day-every-day-at-brokaw-nursery-in-ventura/
LOCATION:Brokaw Nursery\, 5501 Elizabeth Rd.\, Ventura\, 93004
ATTACH;FMTTYPE=image/jpeg:https://events.keyt.com/wp-content/uploads/2026/02/Brokaw-Nursery-small.jpg
END:VEVENT
END:VCALENDAR