BEGIN:VCALENDAR
VERSION:2.0
PRODID:-//KEYT Events - ECPv6.15.20//NONSGML v1.0//EN
CALSCALE:GREGORIAN
METHOD:PUBLISH
X-WR-CALNAME:KEYT Events
X-ORIGINAL-URL:https://events.keyt.com
X-WR-CALDESC:Events for KEYT Events
REFRESH-INTERVAL;VALUE=DURATION:PT1H
X-Robots-Tag:noindex
X-PUBLISHED-TTL:PT1H
BEGIN:VTIMEZONE
TZID:America/Los_Angeles
BEGIN:DAYLIGHT
TZOFFSETFROM:-0800
TZOFFSETTO:-0700
TZNAME:PDT
DTSTART:20250309T100000
END:DAYLIGHT
BEGIN:STANDARD
TZOFFSETFROM:-0700
TZOFFSETTO:-0800
TZNAME:PST
DTSTART:20251102T090000
END:STANDARD
BEGIN:DAYLIGHT
TZOFFSETFROM:-0800
TZOFFSETTO:-0700
TZNAME:PDT
DTSTART:20260308T100000
END:DAYLIGHT
BEGIN:STANDARD
TZOFFSETFROM:-0700
TZOFFSETTO:-0800
TZNAME:PST
DTSTART:20261101T090000
END:STANDARD
BEGIN:DAYLIGHT
TZOFFSETFROM:-0800
TZOFFSETTO:-0700
TZNAME:PDT
DTSTART:20270314T100000
END:DAYLIGHT
BEGIN:STANDARD
TZOFFSETFROM:-0700
TZOFFSETTO:-0800
TZNAME:PST
DTSTART:20271107T090000
END:STANDARD
END:VTIMEZONE
BEGIN:VEVENT
DTSTART;TZID=America/Los_Angeles:20260427T153000
DTEND;TZID=America/Los_Angeles:20260427T170000
DTSTAMP:20260424T045411
CREATED:20260218T011923Z
LAST-MODIFIED:20260218T011923Z
UID:14966-1777303800-1777309200@events.keyt.com
SUMMARY:Education Session: Supporting Foundations of Caregiving
DESCRIPTION:A safe space for family caregivers of people with dementia to share\, exchange\, and learn. Conducted by trained facilitators. 
URL:https://events.keyt.com/event/education-session-supporting-foundations-of-caregiving/
LOCATION:Cambria Connection\, 1075 Main Street\, Cambria\, 93428
ATTACH;FMTTYPE=image/png:https://events.keyt.com/wp-content/uploads/2026/02/unnamed-6.png
ORGANIZER;CN="Alzheimer's Association":MAILTO:ladeloye@alz.org
END:VEVENT
BEGIN:VEVENT
DTSTART;TZID=America/Los_Angeles:20260511T153000
DTEND;TZID=America/Los_Angeles:20260511T170000
DTSTAMP:20260424T045411
CREATED:20251203T002734Z
LAST-MODIFIED:20251203T002734Z
UID:14010-1778513400-1778518800@events.keyt.com
SUMMARY:Dementia Caregiver Support Group
DESCRIPTION:Dementia Caregiver Support Groups provide a safe space for people caring for those with dementia the opportunity to exchange information\, build a support system with people who understand and develop methods and skills to solve problems.
URL:https://events.keyt.com/event/dementia-caregiver-support-group/2026-05-11/
LOCATION:Cambria Connection\, 1075 Main Street\, Cambria\, 93428
CATEGORIES:Education
ATTACH;FMTTYPE=image/png:https://events.keyt.com/wp-content/uploads/2025/12/unnamed.png
ORGANIZER;CN="Alzheimer's Association":MAILTO:ladeloye@alz.org
END:VEVENT
BEGIN:VEVENT
DTSTART;TZID=America/Los_Angeles:20260608T153000
DTEND;TZID=America/Los_Angeles:20260608T170000
DTSTAMP:20260424T045411
CREATED:20251203T002734Z
LAST-MODIFIED:20251203T002734Z
UID:14011-1780932600-1780938000@events.keyt.com
SUMMARY:Dementia Caregiver Support Group
DESCRIPTION:Dementia Caregiver Support Groups provide a safe space for people caring for those with dementia the opportunity to exchange information\, build a support system with people who understand and develop methods and skills to solve problems.
URL:https://events.keyt.com/event/dementia-caregiver-support-group/2026-06-08/
LOCATION:Cambria Connection\, 1075 Main Street\, Cambria\, 93428
CATEGORIES:Education
ATTACH;FMTTYPE=image/png:https://events.keyt.com/wp-content/uploads/2025/12/unnamed.png
ORGANIZER;CN="Alzheimer's Association":MAILTO:ladeloye@alz.org
END:VEVENT
BEGIN:VEVENT
DTSTART;TZID=America/Los_Angeles:20260713T153000
DTEND;TZID=America/Los_Angeles:20260713T170000
DTSTAMP:20260424T045411
CREATED:20251203T002734Z
LAST-MODIFIED:20251203T002734Z
UID:14012-1783956600-1783962000@events.keyt.com
SUMMARY:Dementia Caregiver Support Group
DESCRIPTION:Dementia Caregiver Support Groups provide a safe space for people caring for those with dementia the opportunity to exchange information\, build a support system with people who understand and develop methods and skills to solve problems.
URL:https://events.keyt.com/event/dementia-caregiver-support-group/2026-07-13/
LOCATION:Cambria Connection\, 1075 Main Street\, Cambria\, 93428
CATEGORIES:Education
ATTACH;FMTTYPE=image/png:https://events.keyt.com/wp-content/uploads/2025/12/unnamed.png
ORGANIZER;CN="Alzheimer's Association":MAILTO:ladeloye@alz.org
END:VEVENT
END:VCALENDAR