BEGIN:VCALENDAR
VERSION:2.0
PRODID:-//KEYT Events - ECPv6.15.20//NONSGML v1.0//EN
CALSCALE:GREGORIAN
METHOD:PUBLISH
X-WR-CALNAME:KEYT Events
X-ORIGINAL-URL:https://events.keyt.com
X-WR-CALDESC:Events for KEYT Events
REFRESH-INTERVAL;VALUE=DURATION:PT1H
X-Robots-Tag:noindex
X-PUBLISHED-TTL:PT1H
BEGIN:VTIMEZONE
TZID:America/Los_Angeles
BEGIN:DAYLIGHT
TZOFFSETFROM:-0800
TZOFFSETTO:-0700
TZNAME:PDT
DTSTART:20210314T100000
END:DAYLIGHT
BEGIN:STANDARD
TZOFFSETFROM:-0700
TZOFFSETTO:-0800
TZNAME:PST
DTSTART:20211107T090000
END:STANDARD
BEGIN:DAYLIGHT
TZOFFSETFROM:-0800
TZOFFSETTO:-0700
TZNAME:PDT
DTSTART:20220313T100000
END:DAYLIGHT
BEGIN:STANDARD
TZOFFSETFROM:-0700
TZOFFSETTO:-0800
TZNAME:PST
DTSTART:20221106T090000
END:STANDARD
BEGIN:DAYLIGHT
TZOFFSETFROM:-0800
TZOFFSETTO:-0700
TZNAME:PDT
DTSTART:20230312T100000
END:DAYLIGHT
BEGIN:STANDARD
TZOFFSETFROM:-0700
TZOFFSETTO:-0800
TZNAME:PST
DTSTART:20231105T090000
END:STANDARD
BEGIN:DAYLIGHT
TZOFFSETFROM:-0800
TZOFFSETTO:-0700
TZNAME:PDT
DTSTART:20240310T100000
END:DAYLIGHT
BEGIN:STANDARD
TZOFFSETFROM:-0700
TZOFFSETTO:-0800
TZNAME:PST
DTSTART:20241103T090000
END:STANDARD
BEGIN:DAYLIGHT
TZOFFSETFROM:-0800
TZOFFSETTO:-0700
TZNAME:PDT
DTSTART:20250309T100000
END:DAYLIGHT
BEGIN:STANDARD
TZOFFSETFROM:-0700
TZOFFSETTO:-0800
TZNAME:PST
DTSTART:20251102T090000
END:STANDARD
BEGIN:DAYLIGHT
TZOFFSETFROM:-0800
TZOFFSETTO:-0700
TZNAME:PDT
DTSTART:20260308T100000
END:DAYLIGHT
BEGIN:STANDARD
TZOFFSETFROM:-0700
TZOFFSETTO:-0800
TZNAME:PST
DTSTART:20261101T090000
END:STANDARD
END:VTIMEZONE
BEGIN:VEVENT
DTSTART;TZID=America/Los_Angeles:20250829T180000
DTEND;TZID=America/Los_Angeles:20250829T220000
DTSTAMP:20260423T053413
CREATED:20250818T233415Z
LAST-MODIFIED:20250818T233415Z
UID:12395-1756490400-1756504800@events.keyt.com
SUMMARY:Sunset Ska Party at the Kimpton Canary Rooftop
DESCRIPTION:Soak in the summer sunset at the Kimpton Canary Hotel rooftop on Friday\, August 29 from 6–10pm\, and enjoy an unforgettable evening under the open sky with live music from local Reggae/Ska favorite\, Koalishon. Dance\, sip\, and sway as the sun sets and the good vibes rise in this 21+ summer celebration. Tickets are $20\, with drinks available for purchase at the bar – you won’t want to miss it!
URL:https://events.keyt.com/event/sunset-ska-party-at-the-kimpton-canary-rooftop/
LOCATION:Kimpton Canary Hotel\, 31 West Carrillo Street\, Santa Barbara\, CA\, 93101\, United States
CATEGORIES:Community
ATTACH;FMTTYPE=image/jpeg:https://events.keyt.com/wp-content/uploads/2025/08/MgEQDiqw-scaled.jpg
END:VEVENT
BEGIN:VEVENT
DTSTART;TZID=America/Los_Angeles:20250729T180000
DTEND;TZID=America/Los_Angeles:20250729T200000
DTSTAMP:20260423T053413
CREATED:20250716T194129Z
LAST-MODIFIED:20250716T194129Z
UID:12066-1753812000-1753819200@events.keyt.com
SUMMARY:Paint Party at Kimpton Canary Hotel
DESCRIPTION:Celebrate Old Spanish Days with color and creativity at the Kimpton Canary’s Paint Party on Tuesday\, July 29 from 6-8pm! Enjoy a fun-filled mixed media paint party led by local artist Carey Caulfield\, where all materials\, instruction\, setup\, and cleanup are included. Whether you’re a total beginner or a seasoned creative\, no experience is necessary! Create and take home your own unique masterpiece showcasing the vibrant spirit of Santa Barbara’s Fiesta. Reserve your spot today – only 10 seats available for this one-night event\, tickets are $45 per person and can be reserved via Venmo @careycaulfield.
URL:https://events.keyt.com/event/paint-party-at-kimpton-canary-hotel/
LOCATION:Kimpton Canary Hotel\, 31 West Carrillo Street\, Santa Barbara\, CA\, 93101\, United States
ATTACH;FMTTYPE=image/jpeg:https://events.keyt.com/wp-content/uploads/2025/07/Canary_Paint_Party_809a3d68-79d4-4f56-aca1-d017659f2ee5-2-scaled.jpg
END:VEVENT
BEGIN:VEVENT
DTSTART;TZID=America/Los_Angeles:20250522T170000
DTEND;TZID=America/Los_Angeles:20250522T190000
DTSTAMP:20260423T053413
CREATED:20250430T215205Z
LAST-MODIFIED:20250430T215205Z
UID:10806-1747933200-1747940400@events.keyt.com
SUMMARY:Memorial Day Weekender Sunset Sip & Swirl at the Kimpton Canary Hotel
DESCRIPTION:Level up your Memorial Day plans to the rooftop of the Kimpton Canary Hotel! This Memorial Day Weekend\, Finch & Fork will be offering up crisp\, spring flavors of the Central Coast paired with artisanal charcuterie and cheese boards. Relax and take in the 360° views of downtown Santa Barbara while DJ Dansauce fills the lively rooftop with mellow sunset beats. Reserve your Memorial Day plans here. \nPhoto Credit: Courtesy of Kimpton Canary
URL:https://events.keyt.com/event/memorial-day-weekender-sunset-sip-swirl-at-the-kimpton-canary-hotel/
LOCATION:Kimpton Canary Hotel\, 31 West Carrillo Street\, Santa Barbara\, CA\, 93101\, United States
CATEGORIES:Food and Drink
ATTACH;FMTTYPE=image/jpeg:https://events.keyt.com/wp-content/uploads/2025/04/IMG_0454.jpeg
END:VEVENT
BEGIN:VEVENT
DTSTART;TZID=America/Los_Angeles:20241114T170000
DTEND;TZID=America/Los_Angeles:20241114T190000
DTSTAMP:20260423T053413
CREATED:20241024T234751Z
LAST-MODIFIED:20241024T234808Z
UID:7455-1731603600-1731610800@events.keyt.com
SUMMARY:Ribbon Wreath Making Workshop at Kimpton Canary
DESCRIPTION:Join The Crafter’s Library at the Kimpton Canary Hotel on November 14th for a wonderful holiday workshop where you can create your own beautiful holiday wreath using ribbons! Get cozy with a special Winter Chalet cocktail or glass of local wine whilst learning and connecting with fellow crafters. Hosted in the Winter Chalet themed space in the Finch & Fork restaurant\, this workshop will be warm and inviting\, making it the perfect activity for date-night or girls-night. Kick off the holiday season right and reserve your spot today. And why not book a dinner at Finch & Fork once you have completed your project!
URL:https://events.keyt.com/event/ribbon-wreath-making-workshop-at-kimpton-canary/
LOCATION:Kimpton Canary Hotel\, 31 West Carrillo Street\, Santa Barbara\, CA\, 93101\, United States
CATEGORIES:Art and Exhibits
ATTACH;FMTTYPE=image/png:https://events.keyt.com/wp-content/uploads/2024/10/Wreath-Making-Workshop.png
END:VEVENT
BEGIN:VEVENT
DTSTART;TZID=America/Los_Angeles:20230210T190000
DTEND;TZID=America/Los_Angeles:20230210T210000
DTSTAMP:20260423T053413
CREATED:20230202T043733Z
LAST-MODIFIED:20230209T043935Z
UID:2312-1676055600-1676062800@events.keyt.com
SUMMARY:Old Fashioned Friday - Love Potion class
DESCRIPTION:Join Pura Luna Apothecary and Finch & Fork for a love potion masterclass as we celebrate Black History month &  Valentines Day.\n\n\nJoin Pura Luna Apothecary and Finch & Fork for a love potion masterclass as we celebrate Black History month &  Valentines Day. You will learn how to boost desire through herbs\, spirits and food. Enjoy Bites and Bourbon\, music from Talitha Gabrielle\, gift bags\, plus amazing giveaways throughout the evening.  \nWe are partnering with Uncle Nearest\, the first known black master distiller\,  to support them in their goal of raising up to $1 Million for Historically Black Colleges and Universities (HBCUs) \nFor every ticket sold $2 will go to supporting Uncle Nearest’s donation to support Historically Black Colleges and Universities. \nTickets are $65  and include your first old-fashioned or zero-proof cocktail\, food bites\, and the herbal aphrodisiac class.
URL:https://events.keyt.com/event/old-fashioned-friday-love-potion-class/
LOCATION:Kimpton Canary Hotel\, 31 West Carrillo Street\, Santa Barbara\, CA\, 93101\, United States
ATTACH;FMTTYPE=image/jpeg:https://events.keyt.com/wp-content/uploads/2023/02/59b173d1419aadafa1ceada4690ff191-48uDgv.tmp_.jpg
END:VEVENT
BEGIN:VEVENT
DTSTART;TZID=America/Los_Angeles:20220405T070000
DTEND;TZID=America/Los_Angeles:20220409T100000
DTSTAMP:20260423T053413
CREATED:20220224T211808Z
LAST-MODIFIED:20220224T211808Z
UID:548-1649142000-1649498400@events.keyt.com
SUMMARY:Mahaffey Financial Group Top Advisor Conference 2022
DESCRIPTION:Mahaffey Financial Group Top Advisor Conference
URL:https://events.keyt.com/event/mahaffey-financial-group-top-advisor-conference-2022/
LOCATION:Kimpton Canary Hotel\, 31 West Carrillo Street\, Santa Barbara\, CA\, 93101\, United States
CATEGORIES:Community
ATTACH;FMTTYPE=image/jpeg:https://events.keyt.com/wp-content/uploads/2022/02/e1e2772f66b9cc3681cbaf7919a08b2a-N8TXON.tmp_.jpg
END:VEVENT
END:VCALENDAR