BEGIN:VCALENDAR
VERSION:2.0
PRODID:-//KEYT Events - ECPv6.15.20//NONSGML v1.0//EN
CALSCALE:GREGORIAN
METHOD:PUBLISH
X-WR-CALNAME:KEYT Events
X-ORIGINAL-URL:https://events.keyt.com
X-WR-CALDESC:Events for KEYT Events
REFRESH-INTERVAL;VALUE=DURATION:PT1H
X-Robots-Tag:noindex
X-PUBLISHED-TTL:PT1H
BEGIN:VTIMEZONE
TZID:America/Los_Angeles
BEGIN:DAYLIGHT
TZOFFSETFROM:-0800
TZOFFSETTO:-0700
TZNAME:PDT
DTSTART:20250309T100000
END:DAYLIGHT
BEGIN:STANDARD
TZOFFSETFROM:-0700
TZOFFSETTO:-0800
TZNAME:PST
DTSTART:20251102T090000
END:STANDARD
BEGIN:DAYLIGHT
TZOFFSETFROM:-0800
TZOFFSETTO:-0700
TZNAME:PDT
DTSTART:20260308T100000
END:DAYLIGHT
BEGIN:STANDARD
TZOFFSETFROM:-0700
TZOFFSETTO:-0800
TZNAME:PST
DTSTART:20261101T090000
END:STANDARD
BEGIN:DAYLIGHT
TZOFFSETFROM:-0800
TZOFFSETTO:-0700
TZNAME:PDT
DTSTART:20270314T100000
END:DAYLIGHT
BEGIN:STANDARD
TZOFFSETFROM:-0700
TZOFFSETTO:-0800
TZNAME:PST
DTSTART:20271107T090000
END:STANDARD
END:VTIMEZONE
BEGIN:VEVENT
DTSTART;TZID=America/Los_Angeles:20260117T150000
DTEND;TZID=America/Los_Angeles:20260117T180000
DTSTAMP:20260420T021650
CREATED:20260114T010500Z
LAST-MODIFIED:20260114T010500Z
UID:14553-1768662000-1768672800@events.keyt.com
SUMMARY:Sunday Supper with the Women Winemakers & Culinarians
DESCRIPTION:🍷 Barn Vibes & Big Hearts \nWhat happens when a powerhouse Board of women joins forces to give back? They create the Women Winemakers & Culinarians Foundation—and you’re invited to the party! \nJoin us at Karen’s restored barn for a Sunday Supper filled with “deliciousness\, hilarity\, and joy.” Think of it as the ultimate dinner party for a great cause. \nThe Lineup \n\nThe Feast: A three-course vegetarian masterpiece by Chef Brooke Stockwell and culinary tastemaker Anna Vocino.\nThe Wine: Perfectly paired pours from Samra with Alma Rosa\, Christi from Lavender Oak\, and Natalie from Native Bloom Winery.\n\nThe Cause \nWith only 50 seats available\, all net proceeds go directly toward the Foundation’s community work and their upcoming International Women’s Day Celebration (March 6-7).
URL:https://events.keyt.com/event/sunday-supper-with-the-women-winemakers-culinarians/
LOCATION:The Barn Los Olivos 2625 Santa Barbara Avenue\, 2625 Santa Barbara Avenue\, Los Olivos\, 93441
CATEGORIES:Food and Drink,Fundraisers and Galas
ATTACH;FMTTYPE=image/jpeg:https://events.keyt.com/wp-content/uploads/2026/01/IMG_0355.jpeg
END:VEVENT
END:VCALENDAR